BEGIN:VCALENDAR
VERSION:2.0
PRODID:-//Timaru Slot Car Club - ECPv6.15.17//NONSGML v1.0//EN
CALSCALE:GREGORIAN
METHOD:PUBLISH
X-ORIGINAL-URL:https://www.timaru.co.uk
X-WR-CALDESC:Events for Timaru Slot Car Club
REFRESH-INTERVAL;VALUE=DURATION:PT1H
X-Robots-Tag:noindex
X-PUBLISHED-TTL:PT1H
BEGIN:VTIMEZONE
TZID:UTC
BEGIN:STANDARD
TZOFFSETFROM:+0000
TZOFFSETTO:+0000
TZNAME:UTC
DTSTART:20240101T000000
END:STANDARD
END:VTIMEZONE
BEGIN:VEVENT
DTSTART;TZID=UTC:20250902T190000
DTEND;TZID=UTC:20250902T220000
DTSTAMP:20260423T121648
CREATED:20241224T142756Z
LAST-MODIFIED:20241224T143554Z
UID:1011-1756839600-1756850400@www.timaru.co.uk
SUMMARY:1/32 Sports Rnd 6
DESCRIPTION:1/32 Sports Rnd 6   \nResults\n \nQualifying\n \nFinals
URL:https://www.timaru.co.uk/event/1-32-sports-rnd-6-2/
LOCATION:Timaru Club Room\, Crampton Tower Museum\, Broadstairs\, Kent\, CT10 2AB\, United Kingdom
CATEGORIES:Club Night
END:VEVENT
BEGIN:VEVENT
DTSTART;TZID=UTC:20250909T190000
DTEND;TZID=UTC:20250909T220000
DTSTAMP:20260423T121648
CREATED:20241224T141746Z
LAST-MODIFIED:20250911T170134Z
UID:912-1757444400-1757455200@www.timaru.co.uk
SUMMARY:1/24 Rnd 6
DESCRIPTION:1/24 Rnd 6 \nResults\nQualifying\nDownload [73.92 KB]  \nFinals\nDownload [213.95 KB]  \nEndurance\nDownload [101.59 KB]
URL:https://www.timaru.co.uk/event/1-24-rnd-6/
LOCATION:Timaru Club Room\, Crampton Tower Museum\, Broadstairs\, Kent\, CT10 2AB\, United Kingdom
CATEGORIES:Club Night
END:VEVENT
BEGIN:VEVENT
DTSTART;TZID=UTC:20250916T190000
DTEND;TZID=UTC:20250916T220000
DTSTAMP:20260423T121648
CREATED:20241224T142811Z
LAST-MODIFIED:20250919T152827Z
UID:1012-1758049200-1758060000@www.timaru.co.uk
SUMMARY:Club Cars Rnd 6
DESCRIPTION:Club Cars Rnd 6 \nResults\nQualifying\nDownload [156.32 KB]  \nFinals\nDownload [70.17 KB]  \nEndurance\nDownload [148.90 KB]
URL:https://www.timaru.co.uk/event/club-cars-rnd-6-2/
LOCATION:Timaru Club Room\, Crampton Tower Museum\, Broadstairs\, Kent\, CT10 2AB\, United Kingdom
CATEGORIES:Club Night
END:VEVENT
BEGIN:VEVENT
DTSTART;TZID=UTC:20250923T190000
DTEND;TZID=UTC:20250923T220000
DTSTAMP:20260423T121648
CREATED:20241224T142811Z
LAST-MODIFIED:20250924T175137Z
UID:1013-1758654000-1758664800@www.timaru.co.uk
SUMMARY:1/32 Genesis Rnd 7
DESCRIPTION:1/32 Genesis Rnd 7 \nResults\nQualifying\nDownload [51.71 KB]  \nFinals\nDownload [173.44 KB]  \nEndurance\nDownload [51.95 KB]
URL:https://www.timaru.co.uk/event/1-32-genesis-rnd-7-2/
LOCATION:Timaru Club Room\, Crampton Tower Museum\, Broadstairs\, Kent\, CT10 2AB\, United Kingdom
CATEGORIES:Club Night
END:VEVENT
BEGIN:VEVENT
DTSTART;TZID=UTC:20250930T190000
DTEND;TZID=UTC:20250930T220000
DTSTAMP:20260423T121648
CREATED:20241224T142811Z
LAST-MODIFIED:20241224T143616Z
UID:1014-1759258800-1759269600@www.timaru.co.uk
SUMMARY:1/32 F2 Rnd 7
DESCRIPTION:1/32 F2 Rnd 7   \nResults\n \nQualifying\n \nFinals
URL:https://www.timaru.co.uk/event/1-32-f2-rnd-7-2/
LOCATION:Timaru Club Room\, Crampton Tower Museum\, Broadstairs\, Kent\, CT10 2AB\, United Kingdom
CATEGORIES:Club Night
END:VEVENT
END:VCALENDAR