BEGIN:VCALENDAR
VERSION:2.0
PRODID:-//Timaru Slot Car Club - ECPv6.15.17//NONSGML v1.0//EN
CALSCALE:GREGORIAN
METHOD:PUBLISH
X-WR-CALNAME:Timaru Slot Car Club
X-ORIGINAL-URL:https://www.timaru.co.uk
X-WR-CALDESC:Events for Timaru Slot Car Club
REFRESH-INTERVAL;VALUE=DURATION:PT1H
X-Robots-Tag:noindex
X-PUBLISHED-TTL:PT1H
BEGIN:VTIMEZONE
TZID:UTC
BEGIN:STANDARD
TZOFFSETFROM:+0000
TZOFFSETTO:+0000
TZNAME:UTC
DTSTART:19690101T000000
END:STANDARD
END:VTIMEZONE
BEGIN:VEVENT
DTSTART;TZID=UTC:20231003T190000
DTEND;TZID=UTC:20231003T190000
DTSTAMP:20260423T150712
CREATED:20230831T124220Z
LAST-MODIFIED:20230831T164005Z
UID:262-1696359600-1696359600@www.timaru.co.uk
SUMMARY:1/32 Sports
DESCRIPTION:Club Night 1/32 Sports
URL:https://www.timaru.co.uk/event/1-32-sports-2/
LOCATION:Timaru Club Room\, Crampton Tower Museum\, Broadstairs\, Kent\, CT10 2AB\, United Kingdom
CATEGORIES:Club Night
END:VEVENT
BEGIN:VEVENT
DTSTART;TZID=UTC:20230926T190000
DTEND;TZID=UTC:20230926T190000
DTSTAMP:20260423T150712
CREATED:20230823T210624Z
LAST-MODIFIED:20230823T210703Z
UID:251-1695754800-1695754800@www.timaru.co.uk
SUMMARY:1/32 Saloon
DESCRIPTION:Club night 1/32 Saloon
URL:https://www.timaru.co.uk/event/1-32-saloon/
LOCATION:Timaru Club Room\, Crampton Tower Museum\, Broadstairs\, Kent\, CT10 2AB\, United Kingdom
CATEGORIES:Club Night
END:VEVENT
BEGIN:VEVENT
DTSTART;TZID=UTC:20230919T190000
DTEND;TZID=UTC:20230919T190000
DTSTAMP:20260423T150712
CREATED:20230819T180048Z
LAST-MODIFIED:20230819T184833Z
UID:152-1695150000-1695150000@www.timaru.co.uk
SUMMARY:1/32 F1
DESCRIPTION:Club night 1/32 F1
URL:https://www.timaru.co.uk/event/1-24-f1/
LOCATION:Timaru Club Room\, Crampton Tower Museum\, Broadstairs\, Kent\, CT10 2AB\, United Kingdom
CATEGORIES:Club Night
END:VEVENT
BEGIN:VEVENT
DTSTART;TZID=UTC:20230905T190000
DTEND;TZID=UTC:20230905T190000
DTSTAMP:20260423T150712
CREATED:20230817T065415Z
LAST-MODIFIED:20230820T200012Z
UID:52-1693940400-1693940400@www.timaru.co.uk
SUMMARY:1/24
DESCRIPTION:Club night 1/24 Sports
URL:https://www.timaru.co.uk/event/1-24/
LOCATION:Timaru Club Room\, Crampton Tower Museum\, Broadstairs\, Kent\, CT10 2AB\, United Kingdom
CATEGORIES:Club Night
END:VEVENT
BEGIN:VEVENT
DTSTART;TZID=UTC:20230829T190000
DTEND;TZID=UTC:20230829T190000
DTSTAMP:20260423T150712
CREATED:20230816T132327Z
LAST-MODIFIED:20230819T175812Z
UID:42-1693335600-1693335600@www.timaru.co.uk
SUMMARY:1/32 Sports
DESCRIPTION:Club night 1/32 Sports
URL:https://www.timaru.co.uk/event/1-32-sports/
LOCATION:Timaru Club Room\, Crampton Tower Museum\, Broadstairs\, Kent\, CT10 2AB\, United Kingdom
CATEGORIES:Club Night
END:VEVENT
BEGIN:VEVENT
DTSTART;TZID=UTC:20230822T190000
DTEND;TZID=UTC:20230822T190000
DTSTAMP:20260423T150712
CREATED:20230816T130509Z
LAST-MODIFIED:20230819T175754Z
UID:36-1692730800-1692730800@www.timaru.co.uk
SUMMARY:1/32 Saloon
DESCRIPTION:Club night 1/32 Saloon
URL:https://www.timaru.co.uk/event/saloon-cars/
LOCATION:Timaru Club Room\, Crampton Tower Museum\, Broadstairs\, Kent\, CT10 2AB\, United Kingdom
CATEGORIES:Club Night
END:VEVENT
BEGIN:VEVENT
DTSTART;TZID=UTC:20260423T150712
DTEND;TZID=UTC:20260423T150712
DTSTAMP:20260423T150712
CREATED:20260222T174440Z
LAST-MODIFIED:20260222T174440Z
UID:1434-0-0@www.timaru.co.uk
SUMMARY:1/24 Sports Rnd 7
DESCRIPTION:1/24 Sports \nDoors Open 18:45\nRacing Starts 19:30
URL:https://www.timaru.co.uk/event/1-24-sports-rnd-7/
LOCATION:Timaru Club Room\, Crampton Tower Museum\, Broadstairs\, Kent\, CT10 2AB\, United Kingdom
CATEGORIES:Club Night
END:VEVENT
BEGIN:VEVENT
DTSTART;TZID=UTC:20260423T150712
DTEND;TZID=UTC:20260423T150712
DTSTAMP:20260423T150712
CREATED:20260222T174437Z
LAST-MODIFIED:20260222T174437Z
UID:1428-0-0@www.timaru.co.uk
SUMMARY:1/24 Sports Rnd 6
DESCRIPTION:1/24 Sports \nDoors Open 18:45\nRacing Starts 19:30
URL:https://www.timaru.co.uk/event/1-24-sports-rnd-6-2/
LOCATION:Timaru Club Room\, Crampton Tower Museum\, Broadstairs\, Kent\, CT10 2AB\, United Kingdom
CATEGORIES:Club Night
END:VEVENT
BEGIN:VEVENT
DTSTART;TZID=UTC:20260423T150712
DTEND;TZID=UTC:20260423T150712
DTSTAMP:20260423T150712
CREATED:20260222T174434Z
LAST-MODIFIED:20260222T174434Z
UID:1422-0-0@www.timaru.co.uk
SUMMARY:1/32 Sports Rnd 6
DESCRIPTION:1/32 Sports \nDoors Open 18:45\nRacing Starts 19:30
URL:https://www.timaru.co.uk/event/1-32-sports-rnd-6-3/
LOCATION:Timaru Club Room\, Crampton Tower Museum\, Broadstairs\, Kent\, CT10 2AB\, United Kingdom
CATEGORIES:Club Night
END:VEVENT
BEGIN:VEVENT
DTSTART;TZID=UTC:20260423T150712
DTEND;TZID=UTC:20260423T150712
DTSTAMP:20260423T150712
CREATED:20260222T174334Z
LAST-MODIFIED:20260222T174334Z
UID:1416-0-0@www.timaru.co.uk
SUMMARY:1/24 Sports Rnd 5
DESCRIPTION:1/24 Sports \nDoors Open 18:45\nRacing Starts 19:30
URL:https://www.timaru.co.uk/event/1-24-sports-rnd-5/
LOCATION:Timaru Club Room\, Crampton Tower Museum\, Broadstairs\, Kent\, CT10 2AB\, United Kingdom
CATEGORIES:Club Night
END:VEVENT
BEGIN:VEVENT
DTSTART;TZID=UTC:20260423T150712
DTEND;TZID=UTC:20260423T150712
DTSTAMP:20260423T150712
CREATED:20260222T174334Z
LAST-MODIFIED:20260222T174434Z
UID:1418-0-0@www.timaru.co.uk
SUMMARY:1/32 Genesis Rnd 6
DESCRIPTION:1/32 Hawk powered Genesis\nBrushless currently not eligible \nDoors Open 18:45\nRacing Starts 19:30
URL:https://www.timaru.co.uk/event/1-32-genesis-rnd-6-3/
LOCATION:Timaru Club Room\, Crampton Tower Museum\, Broadstairs\, Kent\, CT10 2AB\, United Kingdom
CATEGORIES:Club Night
END:VEVENT
BEGIN:VEVENT
DTSTART;TZID=UTC:20260423T150712
DTEND;TZID=UTC:20260423T150712
DTSTAMP:20260423T150712
CREATED:20260222T174328Z
LAST-MODIFIED:20260222T174328Z
UID:1413-0-0@www.timaru.co.uk
SUMMARY:1/32 F2 Rnd 5
DESCRIPTION:1/32 F2 \nDoors Open 18:45\nRacing Starts 19:30
URL:https://www.timaru.co.uk/event/1-32-f2-rnd-5-3/
LOCATION:Timaru Club Room\, Crampton Tower Museum\, Broadstairs\, Kent\, CT10 2AB\, United Kingdom
CATEGORIES:Club Night
END:VEVENT
BEGIN:VEVENT
DTSTART;TZID=UTC:20260423T150712
DTEND;TZID=UTC:20260423T150712
DTSTAMP:20260423T150712
CREATED:20260222T174328Z
LAST-MODIFIED:20260222T174328Z
UID:1414-0-0@www.timaru.co.uk
SUMMARY:1/32 Saloon Rnd 5
DESCRIPTION:1/32 Saloon \nDoors Open 18:45\nRacing Starts 19:30
URL:https://www.timaru.co.uk/event/1-32-saloon-rnd-5-3/
LOCATION:Timaru Club Room\, Crampton Tower Museum\, Broadstairs\, Kent\, CT10 2AB\, United Kingdom
CATEGORIES:Club Night
END:VEVENT
BEGIN:VEVENT
DTSTART;TZID=UTC:20260423T150712
DTEND;TZID=UTC:20260423T150712
DTSTAMP:20260423T150712
CREATED:20260222T174326Z
LAST-MODIFIED:20260222T180418Z
UID:1409-0-0@www.timaru.co.uk
SUMMARY:1/32 Sports Rnd 4
DESCRIPTION:1/32 Sports \nDoors Open 18:45\nRacing Starts 19:30
URL:https://www.timaru.co.uk/event/1-32-sports-rnd-4-3/
LOCATION:Timaru Club Room\, Crampton Tower Museum\, Broadstairs\, Kent\, CT10 2AB\, United Kingdom
CATEGORIES:Club Night
END:VEVENT
BEGIN:VEVENT
DTSTART;TZID=UTC:20260423T150712
DTEND;TZID=UTC:20260423T150712
DTSTAMP:20260423T150712
CREATED:20241224T141801Z
LAST-MODIFIED:20260222T174440Z
UID:917-0-0@www.timaru.co.uk
SUMMARY:1/32 Sports Rnd 7
DESCRIPTION:1/32 Sports \nDoors Open 18:45\nRacing Starts 19:30
URL:https://www.timaru.co.uk/event/1-32-sports-rnd-7/
LOCATION:Timaru Club Room\, Crampton Tower Museum\, Broadstairs\, Kent\, CT10 2AB\, United Kingdom
CATEGORIES:Club Night
END:VEVENT
BEGIN:VEVENT
DTSTART;TZID=UTC:20260423T150712
DTEND;TZID=UTC:20260423T150712
DTSTAMP:20260423T150712
CREATED:20241224T141746Z
LAST-MODIFIED:20260222T174440Z
UID:914-0-0@www.timaru.co.uk
SUMMARY:1/32 Genesis Rnd 7
DESCRIPTION:1/32 Hawk powered Genesis\nBrushless currently not eligible \nDoors Open 18:45\nRacing Starts 19:30
URL:https://www.timaru.co.uk/event/1-32-genesis-rnd-7/
LOCATION:Timaru Club Room\, Crampton Tower Museum\, Broadstairs\, Kent\, CT10 2AB\, United Kingdom
CATEGORIES:Club Night
END:VEVENT
BEGIN:VEVENT
DTSTART;TZID=UTC:20260423T150712
DTEND;TZID=UTC:20260423T150712
DTSTAMP:20260423T150712
CREATED:20241224T141746Z
LAST-MODIFIED:20260222T174437Z
UID:913-0-0@www.timaru.co.uk
SUMMARY:Club Cars Rnd 6
DESCRIPTION:Club Cars \nDoors Open 18:45\nRacing Starts 19:30
URL:https://www.timaru.co.uk/event/club-cars-rnd-6/
LOCATION:Timaru Club Room\, Crampton Tower Museum\, Broadstairs\, Kent\, CT10 2AB\, United Kingdom
CATEGORIES:Club Night
END:VEVENT
BEGIN:VEVENT
DTSTART;TZID=UTC:20260423T150712
DTEND;TZID=UTC:20260423T150712
DTSTAMP:20260423T150712
CREATED:20241224T141731Z
LAST-MODIFIED:20260222T174437Z
UID:909-0-0@www.timaru.co.uk
SUMMARY:1/32 F2 Rnd 6
DESCRIPTION:1/32 F2 \nDoors Open 18:45\nRacing Starts 19:30
URL:https://www.timaru.co.uk/event/1-32-f2-rnd-6/
LOCATION:Timaru Club Room\, Crampton Tower Museum\, Broadstairs\, Kent\, CT10 2AB\, United Kingdom
CATEGORIES:Club Night
END:VEVENT
BEGIN:VEVENT
DTSTART;TZID=UTC:20260423T150712
DTEND;TZID=UTC:20260423T150712
DTSTAMP:20260423T150712
CREATED:20241224T141731Z
LAST-MODIFIED:20260222T174437Z
UID:910-0-0@www.timaru.co.uk
SUMMARY:1/32 Saloon Rnd 6
DESCRIPTION:1/32 Saloon \nDoors Open 18:45\nRacing Starts 19:30
URL:https://www.timaru.co.uk/event/1-32-saloon-rnd-6/
LOCATION:Timaru Club Room\, Crampton Tower Museum\, Broadstairs\, Kent\, CT10 2AB\, United Kingdom
CATEGORIES:Club Night
END:VEVENT
BEGIN:VEVENT
DTSTART;TZID=UTC:20260423T150712
DTEND;TZID=UTC:20260423T150712
DTSTAMP:20260423T150712
CREATED:20241224T141716Z
LAST-MODIFIED:20260222T174334Z
UID:906-0-0@www.timaru.co.uk
SUMMARY:Club Cars Rnd 5
DESCRIPTION:Club Cars \nDoors Open 18:45\nRacing Starts 19:30
URL:https://www.timaru.co.uk/event/club-cars-rnd-5/
LOCATION:Timaru Club Room\, Crampton Tower Museum\, Broadstairs\, Kent\, CT10 2AB\, United Kingdom
CATEGORIES:Club Night
END:VEVENT
BEGIN:VEVENT
DTSTART;TZID=UTC:20260423T150712
DTEND;TZID=UTC:20260423T150712
DTSTAMP:20260423T150712
CREATED:20241224T141701Z
LAST-MODIFIED:20260222T180418Z
UID:897-0-0@www.timaru.co.uk
SUMMARY:1/32 Saloon Rnd 4
DESCRIPTION:1/32 Saloon \nDoors Open 18:45\nRacing Starts 19:30
URL:https://www.timaru.co.uk/event/1-32-saloon-rnd-4/
LOCATION:Timaru Club Room\, Crampton Tower Museum\, Broadstairs\, Kent\, CT10 2AB\, United Kingdom
CATEGORIES:Club Night
END:VEVENT
END:VCALENDAR