BEGIN:VCALENDAR
VERSION:2.0
PRODID:-//Timaru Slot Car Club - ECPv6.15.17//NONSGML v1.0//EN
CALSCALE:GREGORIAN
METHOD:PUBLISH
X-ORIGINAL-URL:https://www.timaru.co.uk
X-WR-CALDESC:Events for Timaru Slot Car Club
REFRESH-INTERVAL;VALUE=DURATION:PT1H
X-Robots-Tag:noindex
X-PUBLISHED-TTL:PT1H
BEGIN:VTIMEZONE
TZID:UTC
BEGIN:STANDARD
TZOFFSETFROM:+0000
TZOFFSETTO:+0000
TZNAME:UTC
DTSTART:20220101T000000
END:STANDARD
END:VTIMEZONE
BEGIN:VEVENT
DTSTART;TZID=UTC:20240305T190000
DTEND;TZID=UTC:20240305T190000
DTSTAMP:20260420T074604
CREATED:20231220T180012Z
LAST-MODIFIED:20240306T121735Z
UID:371-1709665200-1709665200@www.timaru.co.uk
SUMMARY:1/32 Sports Rnd2
DESCRIPTION:Round 2\n1/32 Sports \nResults\nQualifying\nDownload [88.46 KB]  \nFinals\nDownload [252.03 KB]
URL:https://www.timaru.co.uk/event/1-32-sports-5/
LOCATION:Timaru Club Room\, Crampton Tower Museum\, Broadstairs\, Kent\, CT10 2AB\, United Kingdom
CATEGORIES:Club Night
END:VEVENT
BEGIN:VEVENT
DTSTART;TZID=UTC:20240227T190000
DTEND;TZID=UTC:20240227T190000
DTSTAMP:20260420T074604
CREATED:20231220T175912Z
LAST-MODIFIED:20240228T084907Z
UID:369-1709060400-1709060400@www.timaru.co.uk
SUMMARY:1/32 Saloon Rnd2
DESCRIPTION:Round 2\n1/32 Saloon Racing \nResults\nQualifying\nDownload [85.64 KB]  \nFinals\nDownload [235.86 KB]
URL:https://www.timaru.co.uk/event/1-32-saloon-5/
LOCATION:Timaru Club Room\, Crampton Tower Museum\, Broadstairs\, Kent\, CT10 2AB\, United Kingdom
CATEGORIES:Club Night
END:VEVENT
BEGIN:VEVENT
DTSTART;TZID=UTC:20240220T190000
DTEND;TZID=UTC:20240220T190000
DTSTAMP:20260420T074604
CREATED:20231220T175801Z
LAST-MODIFIED:20240221T181136Z
UID:367-1708455600-1708455600@www.timaru.co.uk
SUMMARY:1/32 F2 Rnd2
DESCRIPTION:Round 2\n1/32 F2 Round 2 \nResults\nQualifying\nDownload [65.29 KB]  \nFinals\nDownload [203.17 KB]
URL:https://www.timaru.co.uk/event/1-32-f1-4/
LOCATION:Timaru Club Room\, Crampton Tower Museum\, Broadstairs\, Kent\, CT10 2AB\, United Kingdom
CATEGORIES:Club Night
END:VEVENT
BEGIN:VEVENT
DTSTART;VALUE=DATE:20240218
DTEND;VALUE=DATE:20240219
DTSTAMP:20260420T074604
CREATED:20240107T140627Z
LAST-MODIFIED:20240116T181045Z
UID:462-1708214400-1708300799@www.timaru.co.uk
SUMMARY:S32 Rockingham
DESCRIPTION:S32 Rockingham round
URL:https://www.timaru.co.uk/event/s32/
LOCATION:Kent
CATEGORIES:Southern 32
END:VEVENT
BEGIN:VEVENT
DTSTART;TZID=UTC:20240213T190000
DTEND;TZID=UTC:20240213T190000
DTSTAMP:20260420T074604
CREATED:20231220T175615Z
LAST-MODIFIED:20240213T223615Z
UID:365-1707850800-1707850800@www.timaru.co.uk
SUMMARY:Track Clean\, 1/32 Genesis Rnd2
DESCRIPTION:1/32 Genesis Racing \nResults\nDownload [166.19 KB]
URL:https://www.timaru.co.uk/event/track-clean-1-32-genesis-3/
LOCATION:Timaru Club Room\, Crampton Tower Museum\, Broadstairs\, Kent\, CT10 2AB\, United Kingdom
CATEGORIES:Club Night
END:VEVENT
BEGIN:VEVENT
DTSTART;TZID=UTC:20240206T190000
DTEND;TZID=UTC:20240206T190000
DTSTAMP:20260420T074604
CREATED:20231220T175437Z
LAST-MODIFIED:20240206T224122Z
UID:363-1707246000-1707246000@www.timaru.co.uk
SUMMARY:Club Cars Rnd1
DESCRIPTION:Club night Club Cars \nResults\nQualifying \nDownload [253.85 KB]  \nFinals \nDownload [85.26 KB]
URL:https://www.timaru.co.uk/event/club-cars/
LOCATION:Timaru Club Room\, Crampton Tower Museum\, Broadstairs\, Kent\, CT10 2AB\, United Kingdom
CATEGORIES:Club Night
END:VEVENT
BEGIN:VEVENT
DTSTART;TZID=UTC:20240203T140000
DTEND;TZID=UTC:20240203T163000
DTSTAMP:20260420T074604
CREATED:20240119T160012Z
LAST-MODIFIED:20240119T160012Z
UID:556-1706968800-1706977800@www.timaru.co.uk
SUMMARY:Open Session
DESCRIPTION:Want to test a new car or car parts or just work on improving the handling of an old one\, or just need some practice time? \nThen our open session is for you. Come along and test/practice without the pressures of a race. \nPotential new members please contact us first. \n 
URL:https://www.timaru.co.uk/event/open-session/
LOCATION:Timaru Club Room\, Crampton Tower Museum\, Broadstairs\, Kent\, CT10 2AB\, United Kingdom
CATEGORIES:Open Session
END:VEVENT
BEGIN:VEVENT
DTSTART;TZID=UTC:20240130T190000
DTEND;TZID=UTC:20240130T190000
DTSTAMP:20260420T074604
CREATED:20231220T175118Z
LAST-MODIFIED:20240130T224010Z
UID:360-1706641200-1706641200@www.timaru.co.uk
SUMMARY:1/24 Rnd1
DESCRIPTION:Club night 1/24 Sports \nResults\nDownload [243.91 KB]
URL:https://www.timaru.co.uk/event/1-24-sports-2/
LOCATION:Timaru Club Room\, Crampton Tower Museum\, Broadstairs\, Kent\, CT10 2AB\, United Kingdom
CATEGORIES:Club Night
END:VEVENT
BEGIN:VEVENT
DTSTART;TZID=UTC:20240123T190000
DTEND;TZID=UTC:20240123T190000
DTSTAMP:20260420T074604
CREATED:20231220T175017Z
LAST-MODIFIED:20240124T151610Z
UID:358-1706036400-1706036400@www.timaru.co.uk
SUMMARY:1/32 Sports Rnd1
DESCRIPTION:Club night 1/32 Sports \nResults\nDownload [173.65 KB]  \n 
URL:https://www.timaru.co.uk/event/1-32-sports-4/
LOCATION:Timaru Club Room\, Crampton Tower Museum\, Broadstairs\, Kent\, CT10 2AB\, United Kingdom
CATEGORIES:Club Night
END:VEVENT
BEGIN:VEVENT
DTSTART;VALUE=DATE:20240121
DTEND;VALUE=DATE:20240122
DTSTAMP:20260420T074604
CREATED:20240103T204736Z
LAST-MODIFIED:20240103T204736Z
UID:385-1705795200-1705881599@www.timaru.co.uk
SUMMARY:S32 North London
DESCRIPTION:S32 North London round.
URL:https://www.timaru.co.uk/event/s32-north-london/
LOCATION:Kent
CATEGORIES:Southern 32
END:VEVENT
BEGIN:VEVENT
DTSTART;TZID=UTC:20240116T190000
DTEND;TZID=UTC:20240116T190000
DTSTAMP:20260420T074604
CREATED:20231220T174747Z
LAST-MODIFIED:20240112T135943Z
UID:356-1705431600-1705431600@www.timaru.co.uk
SUMMARY:1/32 Saloon Rnd1
DESCRIPTION:Club night 1/32 Saloon
URL:https://www.timaru.co.uk/event/1-32-saloon-4/
LOCATION:Timaru Club Room\, Crampton Tower Museum\, Broadstairs\, Kent\, CT10 2AB\, United Kingdom
CATEGORIES:Club Night
END:VEVENT
BEGIN:VEVENT
DTSTART;TZID=UTC:20240109T190000
DTEND;TZID=UTC:20240109T190000
DTSTAMP:20260420T074604
CREATED:20231220T174600Z
LAST-MODIFIED:20240112T135912Z
UID:354-1704826800-1704826800@www.timaru.co.uk
SUMMARY:1/32 F1 Rnd1
DESCRIPTION:Club night 1/32 F1
URL:https://www.timaru.co.uk/event/1-32-f1-3/
LOCATION:Timaru Club Room\, Crampton Tower Museum\, Broadstairs\, Kent\, CT10 2AB\, United Kingdom
CATEGORIES:Club Night
END:VEVENT
BEGIN:VEVENT
DTSTART;TZID=UTC:20240102T190000
DTEND;TZID=UTC:20240102T190000
DTSTAMP:20260420T074604
CREATED:20230817T070242Z
LAST-MODIFIED:20240112T135849Z
UID:54-1704222000-1704222000@www.timaru.co.uk
SUMMARY:1/32 Genesis Rnd1
DESCRIPTION:Club night 1/32 Genesis
URL:https://www.timaru.co.uk/event/clean-track-1-24-genesis/
LOCATION:Timaru Club Room\, Crampton Tower Museum\, Broadstairs\, Kent\, CT10 2AB\, United Kingdom
CATEGORIES:Club Night
END:VEVENT
BEGIN:VEVENT
DTSTART;TZID=UTC:20231219T190000
DTEND;TZID=UTC:20231219T190000
DTSTAMP:20260420T074604
CREATED:20230923T104025Z
LAST-MODIFIED:20230923T104140Z
UID:321-1703012400-1703012400@www.timaru.co.uk
SUMMARY:1/24
DESCRIPTION:Club night 1/24 Sports
URL:https://www.timaru.co.uk/event/1-24-4/
LOCATION:Timaru Club Room\, Crampton Tower Museum\, Broadstairs\, Kent\, CT10 2AB\, United Kingdom
CATEGORIES:Club Night
END:VEVENT
BEGIN:VEVENT
DTSTART;TZID=UTC:20231212T190000
DTEND;TZID=UTC:20231212T190000
DTSTAMP:20260420T074604
CREATED:20230923T103919Z
LAST-MODIFIED:20230923T103932Z
UID:318-1702407600-1702407600@www.timaru.co.uk
SUMMARY:1/32 Sports
DESCRIPTION:Club night 1/32 Sports
URL:https://www.timaru.co.uk/event/1-24-sports/
LOCATION:Timaru Club Room\, Crampton Tower Museum\, Broadstairs\, Kent\, CT10 2AB\, United Kingdom
CATEGORIES:Club Night
END:VEVENT
BEGIN:VEVENT
DTSTART;TZID=UTC:20231205T190000
DTEND;TZID=UTC:20231205T190000
DTSTAMP:20260420T074604
CREATED:20230923T103743Z
LAST-MODIFIED:20230923T103743Z
UID:316-1701802800-1701802800@www.timaru.co.uk
SUMMARY:1/32 Saloon
DESCRIPTION:Club night 1/32 Saloon
URL:https://www.timaru.co.uk/event/1-32-saloon-3/
LOCATION:Timaru Club Room\, Crampton Tower Museum\, Broadstairs\, Kent\, CT10 2AB\, United Kingdom
CATEGORIES:Club Night
END:VEVENT
BEGIN:VEVENT
DTSTART;TZID=UTC:20231128T190000
DTEND;TZID=UTC:20231128T190000
DTSTAMP:20260420T074604
CREATED:20230923T103538Z
LAST-MODIFIED:20230923T103538Z
UID:314-1701198000-1701198000@www.timaru.co.uk
SUMMARY:1/32 F1
DESCRIPTION:Club night 1/32 F1
URL:https://www.timaru.co.uk/event/1-32-f1-2/
LOCATION:Timaru Club Room\, Crampton Tower Museum\, Broadstairs\, Kent\, CT10 2AB\, United Kingdom
CATEGORIES:Club Night
END:VEVENT
BEGIN:VEVENT
DTSTART;TZID=UTC:20231121T190000
DTEND;TZID=UTC:20231121T190000
DTSTAMP:20260420T074604
CREATED:20230923T102812Z
LAST-MODIFIED:20230923T102812Z
UID:312-1700593200-1700593200@www.timaru.co.uk
SUMMARY:Track Clean\, 1/32 Genesis
DESCRIPTION:Track clean ready for the next round followed by 1/24 Genesis
URL:https://www.timaru.co.uk/event/track-clean-1-32-genesis-2/
LOCATION:Timaru Club Room\, Crampton Tower Museum\, Broadstairs\, Kent\, CT10 2AB\, United Kingdom
CATEGORIES:Club Night
END:VEVENT
BEGIN:VEVENT
DTSTART;TZID=UTC:20231114T190000
DTEND;TZID=UTC:20231114T190000
DTSTAMP:20260420T074604
CREATED:20230923T102615Z
LAST-MODIFIED:20230923T102843Z
UID:310-1699988400-1699988400@www.timaru.co.uk
SUMMARY:1/24
DESCRIPTION:Club night 1/24 Sports
URL:https://www.timaru.co.uk/event/1-24-3/
LOCATION:Timaru Club Room\, Crampton Tower Museum\, Broadstairs\, Kent\, CT10 2AB\, United Kingdom
CATEGORIES:Club Night
END:VEVENT
BEGIN:VEVENT
DTSTART;TZID=UTC:20231107T190000
DTEND;TZID=UTC:20231107T190000
DTSTAMP:20260420T074604
CREATED:20230923T102507Z
LAST-MODIFIED:20230923T102900Z
UID:308-1699383600-1699383600@www.timaru.co.uk
SUMMARY:1/32 Sports
DESCRIPTION:Club night 1/32 Sports
URL:https://www.timaru.co.uk/event/1-32-sports-3/
LOCATION:Timaru Club Room\, Crampton Tower Museum\, Broadstairs\, Kent\, CT10 2AB\, United Kingdom
CATEGORIES:Club Night
END:VEVENT
BEGIN:VEVENT
DTSTART;TZID=UTC:20231031T190000
DTEND;TZID=UTC:20231031T190000
DTSTAMP:20260420T074604
CREATED:20230831T164311Z
LAST-MODIFIED:20230831T164321Z
UID:271-1698778800-1698778800@www.timaru.co.uk
SUMMARY:1/32 Saloon
DESCRIPTION:Club night 1/32 Saloon
URL:https://www.timaru.co.uk/event/1-32-saloon-2/
LOCATION:Timaru Club Room\, Crampton Tower Museum\, Broadstairs\, Kent\, CT10 2AB\, United Kingdom
CATEGORIES:Club Night
END:VEVENT
BEGIN:VEVENT
DTSTART;TZID=UTC:20231024T190000
DTEND;TZID=UTC:20231024T190000
DTSTAMP:20260420T074604
CREATED:20230831T164215Z
LAST-MODIFIED:20230831T164215Z
UID:269-1698174000-1698174000@www.timaru.co.uk
SUMMARY:1/32 F1
DESCRIPTION:Club night 1/32 F1 
URL:https://www.timaru.co.uk/event/1-32-f1/
LOCATION:Timaru Club Room\, Crampton Tower Museum\, Broadstairs\, Kent\, CT10 2AB\, United Kingdom
CATEGORIES:Club Night
END:VEVENT
BEGIN:VEVENT
DTSTART;TZID=UTC:20231017T190000
DTEND;TZID=UTC:20231017T190000
DTSTAMP:20260420T074604
CREATED:20230831T124558Z
LAST-MODIFIED:20230831T124558Z
UID:266-1697569200-1697569200@www.timaru.co.uk
SUMMARY:Track Clean\, 1/32 Genesis
DESCRIPTION:Track clean ready for the next round followed by 1/24 Genesis
URL:https://www.timaru.co.uk/event/track-clean-1-32-genesis/
LOCATION:Timaru Club Room\, Crampton Tower Museum\, Broadstairs\, Kent\, CT10 2AB\, United Kingdom
CATEGORIES:Club Night
END:VEVENT
BEGIN:VEVENT
DTSTART;TZID=UTC:20231010T190000
DTEND;TZID=UTC:20231010T190000
DTSTAMP:20260420T074604
CREATED:20230831T124450Z
LAST-MODIFIED:20230831T124450Z
UID:264-1696964400-1696964400@www.timaru.co.uk
SUMMARY:1/24
DESCRIPTION:Club night 1/24 Sports
URL:https://www.timaru.co.uk/event/1-24-2/
LOCATION:Timaru Club Room\, Crampton Tower Museum\, Broadstairs\, Kent\, CT10 2AB\, United Kingdom
CATEGORIES:Club Night
END:VEVENT
BEGIN:VEVENT
DTSTART;TZID=UTC:20231003T190000
DTEND;TZID=UTC:20231003T190000
DTSTAMP:20260420T074604
CREATED:20230831T124220Z
LAST-MODIFIED:20230831T164005Z
UID:262-1696359600-1696359600@www.timaru.co.uk
SUMMARY:1/32 Sports
DESCRIPTION:Club Night 1/32 Sports
URL:https://www.timaru.co.uk/event/1-32-sports-2/
LOCATION:Timaru Club Room\, Crampton Tower Museum\, Broadstairs\, Kent\, CT10 2AB\, United Kingdom
CATEGORIES:Club Night
END:VEVENT
BEGIN:VEVENT
DTSTART;TZID=UTC:20230926T190000
DTEND;TZID=UTC:20230926T190000
DTSTAMP:20260420T074604
CREATED:20230823T210624Z
LAST-MODIFIED:20230823T210703Z
UID:251-1695754800-1695754800@www.timaru.co.uk
SUMMARY:1/32 Saloon
DESCRIPTION:Club night 1/32 Saloon
URL:https://www.timaru.co.uk/event/1-32-saloon/
LOCATION:Timaru Club Room\, Crampton Tower Museum\, Broadstairs\, Kent\, CT10 2AB\, United Kingdom
CATEGORIES:Club Night
END:VEVENT
BEGIN:VEVENT
DTSTART;VALUE=DATE:20230924
DTEND;VALUE=DATE:20230925
DTSTAMP:20260420T074604
CREATED:20230817T070458Z
LAST-MODIFIED:20230916T114715Z
UID:56-1695513600-1695599999@www.timaru.co.uk
SUMMARY:Timaru Southern 32
DESCRIPTION:The Timaru round of the Southern 32 race series will be held on the 24th September 2023\n  \n\nTimings\nDoors open at 8am with visitor practice until 9.30 followed by home driver practice and driver briefing.\nRacing starts at 10am and depending on numbers drivers may do 2 runs on each visit to the rostrum.\nThe Gp 12 Le Mans team race will start in the early afternoon.  Race length dependant on numbers.\n\n  \n\nOther Info\nTea and coffee available all day.  There are several nearby convenience stores if needed.\nParking in the Museum forecourt is limited but there is a large public car park next to the nearby rail station just a short walk away.\nWe look forward to seeing you all on the 24th.\n\n 
URL:https://www.timaru.co.uk/event/southern-32/
LOCATION:Timaru Club Room\, Crampton Tower Museum\, Broadstairs\, Kent\, CT10 2AB\, United Kingdom
CATEGORIES:Southern 32
END:VEVENT
BEGIN:VEVENT
DTSTART;TZID=UTC:20230919T190000
DTEND;TZID=UTC:20230919T190000
DTSTAMP:20260420T074604
CREATED:20230819T180048Z
LAST-MODIFIED:20230819T184833Z
UID:152-1695150000-1695150000@www.timaru.co.uk
SUMMARY:1/32 F1
DESCRIPTION:Club night 1/32 F1
URL:https://www.timaru.co.uk/event/1-24-f1/
LOCATION:Timaru Club Room\, Crampton Tower Museum\, Broadstairs\, Kent\, CT10 2AB\, United Kingdom
CATEGORIES:Club Night
END:VEVENT
BEGIN:VEVENT
DTSTART;TZID=UTC:20230905T190000
DTEND;TZID=UTC:20230905T190000
DTSTAMP:20260420T074604
CREATED:20230817T065415Z
LAST-MODIFIED:20230820T200012Z
UID:52-1693940400-1693940400@www.timaru.co.uk
SUMMARY:1/24
DESCRIPTION:Club night 1/24 Sports
URL:https://www.timaru.co.uk/event/1-24/
LOCATION:Timaru Club Room\, Crampton Tower Museum\, Broadstairs\, Kent\, CT10 2AB\, United Kingdom
CATEGORIES:Club Night
END:VEVENT
BEGIN:VEVENT
DTSTART;TZID=UTC:20230829T190000
DTEND;TZID=UTC:20230829T190000
DTSTAMP:20260420T074604
CREATED:20230816T132327Z
LAST-MODIFIED:20230819T175812Z
UID:42-1693335600-1693335600@www.timaru.co.uk
SUMMARY:1/32 Sports
DESCRIPTION:Club night 1/32 Sports
URL:https://www.timaru.co.uk/event/1-32-sports/
LOCATION:Timaru Club Room\, Crampton Tower Museum\, Broadstairs\, Kent\, CT10 2AB\, United Kingdom
CATEGORIES:Club Night
END:VEVENT
END:VCALENDAR