BEGIN:VCALENDAR
VERSION:2.0
PRODID:-//Timaru Slot Car Club - ECPv6.15.17//NONSGML v1.0//EN
CALSCALE:GREGORIAN
METHOD:PUBLISH
X-ORIGINAL-URL:https://www.timaru.co.uk
X-WR-CALDESC:Events for Timaru Slot Car Club
REFRESH-INTERVAL;VALUE=DURATION:PT1H
X-Robots-Tag:noindex
X-PUBLISHED-TTL:PT1H
BEGIN:VTIMEZONE
TZID:UTC
BEGIN:STANDARD
TZOFFSETFROM:+0000
TZOFFSETTO:+0000
TZNAME:UTC
DTSTART:20230101T000000
END:STANDARD
END:VTIMEZONE
BEGIN:VEVENT
DTSTART;TZID=UTC:20240827T190000
DTEND;TZID=UTC:20240827T190000
DTSTAMP:20260419T123918
CREATED:20240107T133813Z
LAST-MODIFIED:20240831T134610Z
UID:430-1724785200-1724785200@www.timaru.co.uk
SUMMARY:1/32 Sports Rnd6
DESCRIPTION:Round 6\n1/32 Sports \nResults\nQualifying\nDownload [53.31 KB]  \nFinal\nDownload [181.59 KB]
URL:https://www.timaru.co.uk/event/1-32-sports-9/
LOCATION:Timaru Club Room\, Crampton Tower Museum\, Broadstairs\, Kent\, CT10 2AB\, United Kingdom
CATEGORIES:Club Night
END:VEVENT
BEGIN:VEVENT
DTSTART;TZID=UTC:20240903T190000
DTEND;TZID=UTC:20240903T190000
DTSTAMP:20260419T123918
CREATED:20240107T133855Z
LAST-MODIFIED:20240913T090511Z
UID:432-1725390000-1725390000@www.timaru.co.uk
SUMMARY:1/24 Rnd6
DESCRIPTION: 1/24 Sports \nResults\nQualifying\nDownload [81.10 KB]  Round 6 \nFinals\nDownload [222.70 KB]
URL:https://www.timaru.co.uk/event/1-24-9/
LOCATION:Timaru Club Room\, Crampton Tower Museum\, Broadstairs\, Kent\, CT10 2AB\, United Kingdom
CATEGORIES:Club Night
END:VEVENT
BEGIN:VEVENT
DTSTART;TZID=UTC:20240907T140000
DTEND;TZID=UTC:20240907T163000
DTSTAMP:20260419T123918
CREATED:20240119T160755Z
LAST-MODIFIED:20240119T162101Z
UID:570-1725717600-1725726600@www.timaru.co.uk
SUMMARY:Open Session
DESCRIPTION:Want to test a new car or car parts or just work on improving the handling of an old one\, or just need some practice time? \nThen our open session is for you. Come along and test/practice without the pressures of a race. \nPotential new members please contact us first.
URL:https://www.timaru.co.uk/event/open-session-8/
LOCATION:Timaru Club Room\, Crampton Tower Museum\, Broadstairs\, Kent\, CT10 2AB\, United Kingdom
CATEGORIES:Open Session
END:VEVENT
BEGIN:VEVENT
DTSTART;TZID=UTC:20240910T080000
DTEND;TZID=UTC:20240910T170000
DTSTAMP:20260419T123918
CREATED:20240107T133936Z
LAST-MODIFIED:20240913T090719Z
UID:434-1725955200-1725987600@www.timaru.co.uk
SUMMARY:Club Cars Rnd6
DESCRIPTION:Round 6\nClub Cars \nResults\nQualifying\nDownload [147.18 KB]  \nFinals\nDownload [51.86 KB]
URL:https://www.timaru.co.uk/event/club-cars-6/
LOCATION:Timaru Club Room\, Crampton Tower Museum\, Broadstairs\, Kent\, CT10 2AB\, United Kingdom
CATEGORIES:Club Night
END:VEVENT
BEGIN:VEVENT
DTSTART;TZID=UTC:20240917T190000
DTEND;TZID=UTC:20240917T190000
DTSTAMP:20260419T123918
CREATED:20240107T134114Z
LAST-MODIFIED:20240211T202434Z
UID:436-1726599600-1726599600@www.timaru.co.uk
SUMMARY:Track Clean\, 1/32 Genesis Rnd7
DESCRIPTION:Round 7\nTrack clean\n1/32 Genesis
URL:https://www.timaru.co.uk/event/track-clean-1-32-genesis-8/
LOCATION:Timaru Club Room\, Crampton Tower Museum\, Broadstairs\, Kent\, CT10 2AB\, United Kingdom
CATEGORIES:Club Night
END:VEVENT
BEGIN:VEVENT
DTSTART;VALUE=DATE:20240922
DTEND;VALUE=DATE:20240923
DTSTAMP:20260419T123918
CREATED:20240107T141500Z
LAST-MODIFIED:20240116T181536Z
UID:476-1726963200-1727049599@www.timaru.co.uk
SUMMARY:S32 Timaru
DESCRIPTION:S32 Timaru round
URL:https://www.timaru.co.uk/event/s32-8/
LOCATION:Kent
CATEGORIES:Southern 32
END:VEVENT
BEGIN:VEVENT
DTSTART;TZID=UTC:20240924T190000
DTEND;TZID=UTC:20240924T190000
DTSTAMP:20260419T123918
CREATED:20240107T134230Z
LAST-MODIFIED:20240211T202500Z
UID:438-1727204400-1727204400@www.timaru.co.uk
SUMMARY:1/32 F2 Rnd7
DESCRIPTION:Round 7\n 1/32 F2
URL:https://www.timaru.co.uk/event/1-32-f1-9/
LOCATION:Timaru Club Room\, Crampton Tower Museum\, Broadstairs\, Kent\, CT10 2AB\, United Kingdom
CATEGORIES:Club Night
END:VEVENT
BEGIN:VEVENT
DTSTART;TZID=UTC:20241001T190000
DTEND;TZID=UTC:20241001T190000
DTSTAMP:20260419T123918
CREATED:20240107T134345Z
LAST-MODIFIED:20241005T164712Z
UID:440-1727809200-1727809200@www.timaru.co.uk
SUMMARY:1/32 Saloon Rnd7
DESCRIPTION:Round 7\n1/32 Saloon \nResults\nQualifying\nDownload [81.01 KB]  \nFinals\nDownload [207.28 KB]
URL:https://www.timaru.co.uk/event/1-32-saloon-10/
LOCATION:Timaru Club Room\, Crampton Tower Museum\, Broadstairs\, Kent\, CT10 2AB\, United Kingdom
CATEGORIES:Club Night
END:VEVENT
BEGIN:VEVENT
DTSTART;TZID=UTC:20241005T140000
DTEND;TZID=UTC:20241005T163000
DTSTAMP:20260419T123918
CREATED:20240119T160832Z
LAST-MODIFIED:20240119T160832Z
UID:572-1728136800-1728145800@www.timaru.co.uk
SUMMARY:Open Session
DESCRIPTION:Want to test a new car or car parts or just work on improving the handling of an old one\, or just need some practice time? \nThen our open session is for you. Come along and test/practice without the pressures of a race. \nPotential new members please contact us first.
URL:https://www.timaru.co.uk/event/open-session-9/
LOCATION:Timaru Club Room\, Crampton Tower Museum\, Broadstairs\, Kent\, CT10 2AB\, United Kingdom
CATEGORIES:Open Session
END:VEVENT
BEGIN:VEVENT
DTSTART;TZID=UTC:20241008T190000
DTEND;TZID=UTC:20241008T190000
DTSTAMP:20260419T123918
CREATED:20240107T134459Z
LAST-MODIFIED:20241010T111143Z
UID:442-1728414000-1728414000@www.timaru.co.uk
SUMMARY:1/32 Sports Rnd7
DESCRIPTION:Round 7\n1/32 Sports \nResults\nQualifying\nDownload [66.96 KB]  \nFinals\nDownload [215.90 KB]
URL:https://www.timaru.co.uk/event/1-32-sports-10/
LOCATION:Timaru Club Room\, Crampton Tower Museum\, Broadstairs\, Kent\, CT10 2AB\, United Kingdom
CATEGORIES:Club Night
END:VEVENT
BEGIN:VEVENT
DTSTART;TZID=UTC:20241015T190000
DTEND;TZID=UTC:20241015T190000
DTSTAMP:20260419T123918
CREATED:20240107T134555Z
LAST-MODIFIED:20241106T092038Z
UID:444-1729018800-1729018800@www.timaru.co.uk
SUMMARY:1/24 Rnd7
DESCRIPTION:Round 7\n1/24 Sports \nResults\nQualifying\nDownload [81.79 KB]  \nFinals\nDownload [221.10 KB]
URL:https://www.timaru.co.uk/event/1-24-10/
LOCATION:Timaru Club Room\, Crampton Tower Museum\, Broadstairs\, Kent\, CT10 2AB\, United Kingdom
CATEGORIES:Club Night
END:VEVENT
BEGIN:VEVENT
DTSTART;TZID=UTC:20241022T190000
DTEND;TZID=UTC:20241022T190000
DTSTAMP:20260419T123918
CREATED:20240107T134645Z
LAST-MODIFIED:20240211T202645Z
UID:446-1729623600-1729623600@www.timaru.co.uk
SUMMARY:Club Cars Rnd7
DESCRIPTION:Round 7\n Club Cars
URL:https://www.timaru.co.uk/event/club-cars-7/
LOCATION:Timaru Club Room\, Crampton Tower Museum\, Broadstairs\, Kent\, CT10 2AB\, United Kingdom
CATEGORIES:Club Night
END:VEVENT
BEGIN:VEVENT
DTSTART;TZID=UTC:20241029T190000
DTEND;TZID=UTC:20241029T190000
DTSTAMP:20260419T123918
CREATED:20240107T134728Z
LAST-MODIFIED:20241106T092224Z
UID:448-1730228400-1730228400@www.timaru.co.uk
SUMMARY:Track Clean\, 1/32 Genesis Rnd8
DESCRIPTION:Round 8\nTrack Clean\n1/32 Genesis \nResults \nQualifying \nDownload [73.86 KB]  \nFinals \nDownload [165.37 KB]
URL:https://www.timaru.co.uk/event/track-clean-1-32-genesis-9/
LOCATION:Timaru Club Room\, Crampton Tower Museum\, Broadstairs\, Kent\, CT10 2AB\, United Kingdom
CATEGORIES:Club Night
END:VEVENT
BEGIN:VEVENT
DTSTART;TZID=UTC:20241102T140000
DTEND;TZID=UTC:20241102T163000
DTSTAMP:20260419T123918
CREATED:20240119T160903Z
LAST-MODIFIED:20240119T160903Z
UID:574-1730556000-1730565000@www.timaru.co.uk
SUMMARY:Open Session
DESCRIPTION:Want to test a new car or car parts or just work on improving the handling of an old one\, or just need some practice time? \nThen our open session is for you. Come along and test/practice without the pressures of a race. \nPotential new members please contact us first.
URL:https://www.timaru.co.uk/event/open-session-10/
LOCATION:Timaru Club Room\, Crampton Tower Museum\, Broadstairs\, Kent\, CT10 2AB\, United Kingdom
CATEGORIES:Open Session
END:VEVENT
BEGIN:VEVENT
DTSTART;TZID=UTC:20241105T190000
DTEND;TZID=UTC:20241105T190000
DTSTAMP:20260419T123918
CREATED:20240107T134821Z
LAST-MODIFIED:20241106T092444Z
UID:450-1730833200-1730833200@www.timaru.co.uk
SUMMARY:1/32 F2 Rnd8
DESCRIPTION:Round 8\n1/32 F2 \nResults\nQualifying\nDownload [87.34 KB]  \nFinals\nDownload [217.24 KB]
URL:https://www.timaru.co.uk/event/1-32-f1-10/
LOCATION:Timaru Club Room\, Crampton Tower Museum\, Broadstairs\, Kent\, CT10 2AB\, United Kingdom
CATEGORIES:Club Night
END:VEVENT
BEGIN:VEVENT
DTSTART;VALUE=DATE:20241110
DTEND;VALUE=DATE:20241111
DTSTAMP:20260419T123918
CREATED:20240107T141542Z
LAST-MODIFIED:20240116T181613Z
UID:478-1731196800-1731283199@www.timaru.co.uk
SUMMARY:S32 Nationals Track
DESCRIPTION:S32 National track Corby
URL:https://www.timaru.co.uk/event/s32-9/
LOCATION:Kent
CATEGORIES:Southern 32
END:VEVENT
BEGIN:VEVENT
DTSTART;TZID=UTC:20241112T080000
DTEND;TZID=UTC:20241112T170000
DTSTAMP:20260419T123918
CREATED:20240107T134904Z
LAST-MODIFIED:20241113T074515Z
UID:452-1731398400-1731430800@www.timaru.co.uk
SUMMARY:1/32 Saloon Rnd8
DESCRIPTION:Round 8\n1/32 Saloon \nResults\nQualifying\nDownload [74.00 KB]  \nFinals\nDownload [160.98 KB]
URL:https://www.timaru.co.uk/event/1-32-saloon-11/
LOCATION:Timaru Club Room\, Crampton Tower Museum\, Broadstairs\, Kent\, CT10 2AB\, United Kingdom
CATEGORIES:Club Night
END:VEVENT
BEGIN:VEVENT
DTSTART;TZID=UTC:20241119T190000
DTEND;TZID=UTC:20241119T190000
DTSTAMP:20260419T123918
CREATED:20240107T135113Z
LAST-MODIFIED:20241125T160700Z
UID:456-1732042800-1732042800@www.timaru.co.uk
SUMMARY:1/32 Sports Rnd8
DESCRIPTION:Round 8\n1/32 Sports \nResults\nQualifying\nDownload [59.84 KB]  \nFinals\nDownload [144.75 KB]
URL:https://www.timaru.co.uk/event/1-24-11/
LOCATION:Timaru Club Room\, Crampton Tower Museum\, Broadstairs\, Kent\, CT10 2AB\, United Kingdom
CATEGORIES:Club Night
END:VEVENT
BEGIN:VEVENT
DTSTART;TZID=UTC:20241126T190000
DTEND;TZID=UTC:20241126T190000
DTSTAMP:20260419T123918
CREATED:20240107T135028Z
LAST-MODIFIED:20241208T105522Z
UID:454-1732647600-1732647600@www.timaru.co.uk
SUMMARY:1/24 Rnd8
DESCRIPTION:Round 8\n1/24 \nResults\nQualifying\nDownload [67.26 KB]  \nFinals\nDownload [218.43 KB]
URL:https://www.timaru.co.uk/event/1-32-sports-11/
LOCATION:Timaru Club Room\, Crampton Tower Museum\, Broadstairs\, Kent\, CT10 2AB\, United Kingdom
CATEGORIES:Club Night
END:VEVENT
BEGIN:VEVENT
DTSTART;TZID=UTC:20241203T190000
DTEND;TZID=UTC:20241203T190000
DTSTAMP:20260419T123918
CREATED:20240107T135246Z
LAST-MODIFIED:20241208T105735Z
UID:458-1733252400-1733252400@www.timaru.co.uk
SUMMARY:Club Cars Rnd8
DESCRIPTION:Round 8\n Club Cars \nResults\nQualifying\nDownload [153.29 KB]  \nFinals\nDownload [68.99 KB]
URL:https://www.timaru.co.uk/event/club-cars-8/
LOCATION:Timaru Club Room\, Crampton Tower Museum\, Broadstairs\, Kent\, CT10 2AB\, United Kingdom
CATEGORIES:Club Night
END:VEVENT
BEGIN:VEVENT
DTSTART;TZID=UTC:20241207T140000
DTEND;TZID=UTC:20241207T163000
DTSTAMP:20260419T123918
CREATED:20240119T162256Z
LAST-MODIFIED:20240119T162256Z
UID:577-1733580000-1733589000@www.timaru.co.uk
SUMMARY:Open Session
DESCRIPTION:Want to test a new car or car parts or just work on improving the handling of an old one\, or just need some practice time? \nThen our open session is for you. Come along and test/practice without the pressures of a race. \nPotential new members please contact us first.
URL:https://www.timaru.co.uk/event/open-session-11/
LOCATION:Timaru Club Room\, Crampton Tower Museum\, Broadstairs\, Kent\, CT10 2AB\, United Kingdom
CATEGORIES:Open Session
END:VEVENT
BEGIN:VEVENT
DTSTART;TZID=UTC:20241210T190000
DTEND;TZID=UTC:20241210T220000
DTSTAMP:20260419T123918
CREATED:20241223T205231Z
LAST-MODIFIED:20241223T205521Z
UID:858-1733857200-1733868000@www.timaru.co.uk
SUMMARY:Team Endurance event
DESCRIPTION:Results\nDownload [220.46 KB]
URL:https://www.timaru.co.uk/event/team-endurance-event/
LOCATION:Timaru Club Room\, Crampton Tower Museum\, Broadstairs\, Kent\, CT10 2AB\, United Kingdom
CATEGORIES:Club Night
END:VEVENT
BEGIN:VEVENT
DTSTART;TZID=UTC:20241217T190000
DTEND;TZID=UTC:20241217T220000
DTSTAMP:20260419T123918
CREATED:20241223T205457Z
LAST-MODIFIED:20241223T205457Z
UID:862-1734462000-1734472800@www.timaru.co.uk
SUMMARY:Team Endurance Event
DESCRIPTION:Results\nDownload [250.06 KB]
URL:https://www.timaru.co.uk/event/team-endurance-event-2/
LOCATION:Timaru Club Room\, Crampton Tower Museum\, Broadstairs\, Kent\, CT10 2AB\, United Kingdom
CATEGORIES:Club Night
END:VEVENT
BEGIN:VEVENT
DTSTART;TZID=UTC:20250107T190000
DTEND;TZID=UTC:20250107T220000
DTSTAMP:20260419T123918
CREATED:20241223T213315Z
LAST-MODIFIED:20250108T081203Z
UID:874-1736276400-1736287200@www.timaru.co.uk
SUMMARY:1/32 Genesis Rnd 1
DESCRIPTION:1/32 Genesis Rnd 1 \nResults\nQualifying\nDownload [66.91 KB]  \nFinals\nDownload [211.78 KB]
URL:https://www.timaru.co.uk/event/1-32-genesis-rnd-1/
LOCATION:Timaru Club Room\, Crampton Tower Museum\, Broadstairs\, Kent\, CT10 2AB\, United Kingdom
CATEGORIES:Club Night
END:VEVENT
BEGIN:VEVENT
DTSTART;TZID=UTC:20250114T190000
DTEND;TZID=UTC:20250114T220000
DTSTAMP:20260419T123918
CREATED:20241224T142640Z
LAST-MODIFIED:20250115T181902Z
UID:978-1736881200-1736892000@www.timaru.co.uk
SUMMARY:1/32 F2 Rnd 1
DESCRIPTION:1/32 F2 Rnd 1 \nResults\nQualifying\nDownload [64.71 KB]  \nFinals\nDownload [193.98 KB]
URL:https://www.timaru.co.uk/event/1-32-f2-rnd-1-2/
LOCATION:Timaru Club Room\, Crampton Tower Museum\, Broadstairs\, Kent\, CT10 2AB\, United Kingdom
CATEGORIES:Club Night
END:VEVENT
BEGIN:VEVENT
DTSTART;VALUE=DATE:20250119
DTEND;VALUE=DATE:20250120
DTSTAMP:20260419T123918
CREATED:20241224T144535Z
LAST-MODIFIED:20241224T144535Z
UID:1072-1737244800-1737331199@www.timaru.co.uk
SUMMARY:S32 North London
DESCRIPTION:S32 North London
URL:https://www.timaru.co.uk/event/s32-north-london-2/
LOCATION:Kent
CATEGORIES:Southern 32
END:VEVENT
BEGIN:VEVENT
DTSTART;TZID=UTC:20250121T190000
DTEND;TZID=UTC:20250121T220000
DTSTAMP:20260419T123918
CREATED:20241224T142640Z
LAST-MODIFIED:20250121T221918Z
UID:979-1737486000-1737496800@www.timaru.co.uk
SUMMARY:1/32 Saloon Rnd 1
DESCRIPTION:1/32 Saloon Rnd 1 \nResults\nQualifying\nDownload [65.19 KB]  \nFinals\nDownload [205.92 KB]
URL:https://www.timaru.co.uk/event/1-32-saloon-rnd-1-2/
LOCATION:Timaru Club Room\, Crampton Tower Museum\, Broadstairs\, Kent\, CT10 2AB\, United Kingdom
CATEGORIES:Club Night
END:VEVENT
BEGIN:VEVENT
DTSTART;TZID=UTC:20250128T190000
DTEND;TZID=UTC:20250128T220000
DTSTAMP:20260419T123918
CREATED:20241224T142640Z
LAST-MODIFIED:20250129T080717Z
UID:980-1738090800-1738101600@www.timaru.co.uk
SUMMARY:1/32 Sports Rnd 1
DESCRIPTION:1/32 Sports Rnd 1 \nResults\nQualifying\nDownload [80.97 KB]  \nFinals\nDownload [209.28 KB]
URL:https://www.timaru.co.uk/event/1-32-sports-rnd-1-2/
LOCATION:Timaru Club Room\, Crampton Tower Museum\, Broadstairs\, Kent\, CT10 2AB\, United Kingdom
CATEGORIES:Club Night
END:VEVENT
BEGIN:VEVENT
DTSTART;TZID=UTC:20250204T190000
DTEND;TZID=UTC:20250204T220000
DTSTAMP:20260419T123918
CREATED:20241224T142640Z
LAST-MODIFIED:20250205T181714Z
UID:981-1738695600-1738706400@www.timaru.co.uk
SUMMARY:1/24 Rnd 1
DESCRIPTION:1/24 Rnd 1 \nResults\n  \nQualifying\nDownload [67.34 KB]  \nFinals\nDownload [220.73 KB]
URL:https://www.timaru.co.uk/event/1-24-rnd-1-2/
LOCATION:Timaru Club Room\, Crampton Tower Museum\, Broadstairs\, Kent\, CT10 2AB\, United Kingdom
CATEGORIES:Club Night
END:VEVENT
BEGIN:VEVENT
DTSTART;TZID=UTC:20250211T190000
DTEND;TZID=UTC:20250211T220000
DTSTAMP:20260419T123918
CREATED:20241224T142641Z
LAST-MODIFIED:20241224T143032Z
UID:982-1739300400-1739311200@www.timaru.co.uk
SUMMARY:Club Cars Rnd 1
DESCRIPTION:Club Cars Rnd 1   \nResults\n \nQualifying\n \nFinals
URL:https://www.timaru.co.uk/event/club-cars-rnd-1-2/
LOCATION:Timaru Club Room\, Crampton Tower Museum\, Broadstairs\, Kent\, CT10 2AB\, United Kingdom
CATEGORIES:Club Night
END:VEVENT
END:VCALENDAR