BEGIN:VCALENDAR
VERSION:2.0
PRODID:-//Timaru Slot Car Club - ECPv6.15.17//NONSGML v1.0//EN
CALSCALE:GREGORIAN
METHOD:PUBLISH
X-ORIGINAL-URL:https://www.timaru.co.uk
X-WR-CALDESC:Events for Timaru Slot Car Club
REFRESH-INTERVAL;VALUE=DURATION:PT1H
X-Robots-Tag:noindex
X-PUBLISHED-TTL:PT1H
BEGIN:VTIMEZONE
TZID:UTC
BEGIN:STANDARD
TZOFFSETFROM:+0000
TZOFFSETTO:+0000
TZNAME:UTC
DTSTART:20230101T000000
END:STANDARD
END:VTIMEZONE
BEGIN:VEVENT
DTSTART;TZID=UTC:20250527T190000
DTEND;TZID=UTC:20250527T220000
DTSTAMP:20260419T193628
CREATED:20241224T142726Z
LAST-MODIFIED:20250528T144652Z
UID:997-1748372400-1748383200@www.timaru.co.uk
SUMMARY:1/32 Saloon Rnd 4
DESCRIPTION:1/32 Saloon Rnd 4 \nResults\nQualifying\nDownload [59.50 KB]  \nFinals\nDownload [142.25 KB]  \n10min Endurance\nDownload [95.10 KB]
URL:https://www.timaru.co.uk/event/1-32-saloon-rnd-4-2/
LOCATION:Timaru Club Room\, Crampton Tower Museum\, Broadstairs\, Kent\, CT10 2AB\, United Kingdom
CATEGORIES:Club Night
END:VEVENT
BEGIN:VEVENT
DTSTART;TZID=UTC:20250520T190000
DTEND;TZID=UTC:20250520T220000
DTSTAMP:20260419T193628
CREATED:20241224T142711Z
LAST-MODIFIED:20250521T180441Z
UID:996-1747767600-1747778400@www.timaru.co.uk
SUMMARY:1/32 F2 Rnd 4
DESCRIPTION:1/32 F2 Rnd 4 \nResults\nQualifying\nDownload [59.53 KB]  \nFinals\nDownload [135.83 KB]  \nEndurance\nDownload [93.36 KB]
URL:https://www.timaru.co.uk/event/1-32-f2-rnd-4-2/
LOCATION:Timaru Club Room\, Crampton Tower Museum\, Broadstairs\, Kent\, CT10 2AB\, United Kingdom
CATEGORIES:Club Night
END:VEVENT
BEGIN:VEVENT
DTSTART;VALUE=DATE:20250518
DTEND;VALUE=DATE:20250519
DTSTAMP:20260419T193628
CREATED:20241224T144718Z
LAST-MODIFIED:20241224T144718Z
UID:1078-1747526400-1747612799@www.timaru.co.uk
SUMMARY:S32 Norwich
DESCRIPTION:S32 Norwich
URL:https://www.timaru.co.uk/event/s32-norwich/
LOCATION:Kent
CATEGORIES:Southern 32
END:VEVENT
BEGIN:VEVENT
DTSTART;TZID=UTC:20250513T190000
DTEND;TZID=UTC:20250513T220000
DTSTAMP:20260419T193628
CREATED:20241224T142711Z
LAST-MODIFIED:20250513T212801Z
UID:995-1747162800-1747173600@www.timaru.co.uk
SUMMARY:1/32 Genesis Rnd 4
DESCRIPTION:1/32 Genesis Rnd 4 \nResults\nQualifying\nDownload [52.44 KB]  \nFinals\nDownload [134.07 KB]  \nEndurance\nDownload [104.13 KB]
URL:https://www.timaru.co.uk/event/1-32-genesis-rnd-4-2/
LOCATION:Timaru Club Room\, Crampton Tower Museum\, Broadstairs\, Kent\, CT10 2AB\, United Kingdom
CATEGORIES:Club Night
END:VEVENT
BEGIN:VEVENT
DTSTART;TZID=UTC:20250506T190000
DTEND;TZID=UTC:20250506T220000
DTSTAMP:20260419T193628
CREATED:20241224T142711Z
LAST-MODIFIED:20250506T205238Z
UID:994-1746558000-1746568800@www.timaru.co.uk
SUMMARY:Club Cars Rnd 3
DESCRIPTION:Club Cars Rnd 3 \nResults\nQualifying\nDownload [134.80 KB]  \nFinals\nDownload [46.29 KB]
URL:https://www.timaru.co.uk/event/club-cars-rnd-3-2/
LOCATION:Timaru Club Room\, Crampton Tower Museum\, Broadstairs\, Kent\, CT10 2AB\, United Kingdom
CATEGORIES:Club Night
END:VEVENT
BEGIN:VEVENT
DTSTART;TZID=UTC:20250429T190000
DTEND;TZID=UTC:20250429T220000
DTSTAMP:20260419T193628
CREATED:20241224T142711Z
LAST-MODIFIED:20250502T070829Z
UID:993-1745953200-1745964000@www.timaru.co.uk
SUMMARY:1/24 Rnd 3
DESCRIPTION:1/24 Rnd 3 \nResults\nQualifying\nDownload [61.47 KB]  \nFinals\nDownload [179.17 KB]
URL:https://www.timaru.co.uk/event/1-24-rnd-3-2/
LOCATION:Timaru Club Room\, Crampton Tower Museum\, Broadstairs\, Kent\, CT10 2AB\, United Kingdom
CATEGORIES:Club Night
END:VEVENT
BEGIN:VEVENT
DTSTART;TZID=UTC:20250422T190000
DTEND;TZID=UTC:20250422T220000
DTSTAMP:20260419T193628
CREATED:20241224T142711Z
LAST-MODIFIED:20250311T214950Z
UID:992-1745348400-1745359200@www.timaru.co.uk
SUMMARY:1/32 Sports Rnd 3
DESCRIPTION:1/32 Sports Rnd 3 \nResults\nQualifying\n  \nFinals\n 
URL:https://www.timaru.co.uk/event/1-32-sports-rnd-3-2/
LOCATION:Timaru Club Room\, Crampton Tower Museum\, Broadstairs\, Kent\, CT10 2AB\, United Kingdom
CATEGORIES:Club Night
END:VEVENT
BEGIN:VEVENT
DTSTART;TZID=UTC:20250415T190000
DTEND;TZID=UTC:20250415T220000
DTSTAMP:20260419T193628
CREATED:20241224T142656Z
LAST-MODIFIED:20250416T075628Z
UID:991-1744743600-1744754400@www.timaru.co.uk
SUMMARY:1/32 Saloon Rnd 3
DESCRIPTION:1/32 Saloon Rnd 3 \nResults\nQualifying\nDownload [66.49 KB]  \nFinals\nDownload [204.11 KB]
URL:https://www.timaru.co.uk/event/1-32-saloon-rnd-3-2/
LOCATION:Timaru Club Room\, Crampton Tower Museum\, Broadstairs\, Kent\, CT10 2AB\, United Kingdom
CATEGORIES:Club Night
END:VEVENT
BEGIN:VEVENT
DTSTART;VALUE=DATE:20250413
DTEND;VALUE=DATE:20250414
DTSTAMP:20260419T193628
CREATED:20241224T144647Z
LAST-MODIFIED:20241224T144647Z
UID:1076-1744502400-1744588799@www.timaru.co.uk
SUMMARY:S32 Coulsdon
DESCRIPTION:S32 Coulsdon
URL:https://www.timaru.co.uk/event/s32-coulsdon/
LOCATION:Kent
CATEGORIES:Southern 32
END:VEVENT
BEGIN:VEVENT
DTSTART;TZID=UTC:20250408T190000
DTEND;TZID=UTC:20250408T220000
DTSTAMP:20260419T193628
CREATED:20241224T142656Z
LAST-MODIFIED:20250415T070949Z
UID:990-1744138800-1744149600@www.timaru.co.uk
SUMMARY:1/32 F2 Rnd 3
DESCRIPTION:Results\nQualifying\nresults to follow \nFinals\nDownload [195.22 KB]  1/32 F2 Rnd 3
URL:https://www.timaru.co.uk/event/1-32-f2-rnd-3-2/
LOCATION:Timaru Club Room\, Crampton Tower Museum\, Broadstairs\, Kent\, CT10 2AB\, United Kingdom
CATEGORIES:Club Night
END:VEVENT
BEGIN:VEVENT
DTSTART;TZID=UTC:20250401T190000
DTEND;TZID=UTC:20250401T220000
DTSTAMP:20260419T193628
CREATED:20241224T142656Z
LAST-MODIFIED:20250415T070814Z
UID:989-1743534000-1743544800@www.timaru.co.uk
SUMMARY:1/32 Genesis Rnd 3
DESCRIPTION:Results\nQualifying\nDownload [59.23 KB]  1/32 Genesis Rnd 3 \nFinals\nDownload [59.23 KB]
URL:https://www.timaru.co.uk/event/1-32-genesis-rnd-3-2/
LOCATION:Timaru Club Room\, Crampton Tower Museum\, Broadstairs\, Kent\, CT10 2AB\, United Kingdom
CATEGORIES:Club Night
END:VEVENT
BEGIN:VEVENT
DTSTART;TZID=UTC:20250325T190000
DTEND;TZID=UTC:20250325T220000
DTSTAMP:20260419T193628
CREATED:20241224T142656Z
LAST-MODIFIED:20250325T220131Z
UID:988-1742929200-1742940000@www.timaru.co.uk
SUMMARY:Club Cars Rnd 2
DESCRIPTION:Club Cars Rnd 2 \nResults\nQualifying\nDownload [152.82 KB]  \nFinals\nDownload [69.34 KB]
URL:https://www.timaru.co.uk/event/club-cars-rnd-2-2/
LOCATION:Timaru Club Room\, Crampton Tower Museum\, Broadstairs\, Kent\, CT10 2AB\, United Kingdom
CATEGORIES:Club Night
END:VEVENT
BEGIN:VEVENT
DTSTART;TZID=UTC:20250318T190000
DTEND;TZID=UTC:20250318T220000
DTSTAMP:20260419T193628
CREATED:20241224T142656Z
LAST-MODIFIED:20250318T221154Z
UID:987-1742324400-1742335200@www.timaru.co.uk
SUMMARY:1/24 Rnd 2
DESCRIPTION:1/24 Rnd 2 \nResults\nQualifying\nDownload [75.71 KB]  \nFinals\nDownload [212.74 KB]
URL:https://www.timaru.co.uk/event/1-24-rnd-2-2/
LOCATION:Timaru Club Room\, Crampton Tower Museum\, Broadstairs\, Kent\, CT10 2AB\, United Kingdom
CATEGORIES:Club Night
END:VEVENT
BEGIN:VEVENT
DTSTART;TZID=UTC:20250311T190000
DTEND;TZID=UTC:20250311T220000
DTSTAMP:20260419T193628
CREATED:20241224T142641Z
LAST-MODIFIED:20250311T215309Z
UID:986-1741719600-1741730400@www.timaru.co.uk
SUMMARY:1/32 Sports Rnd 2
DESCRIPTION:1/32 Sports Rnd 2 \nResults\nQualifying\nDownload [66.60 KB]  \nFinals\nDownload [170.62 KB]
URL:https://www.timaru.co.uk/event/1-32-sports-rnd-2-2/
LOCATION:Timaru Club Room\, Crampton Tower Museum\, Broadstairs\, Kent\, CT10 2AB\, United Kingdom
CATEGORIES:Club Night
END:VEVENT
BEGIN:VEVENT
DTSTART;TZID=UTC:20250304T190000
DTEND;TZID=UTC:20250304T220000
DTSTAMP:20260419T193628
CREATED:20241224T142641Z
LAST-MODIFIED:20250304T220202Z
UID:985-1741114800-1741125600@www.timaru.co.uk
SUMMARY:1/32 Saloon Rnd 2
DESCRIPTION:  \nResults\nQualifying\nDownload [72.67 KB]  1/32 Saloon Rnd 2 \nFinals\nDownload [165.08 KB]
URL:https://www.timaru.co.uk/event/1-32-saloon-rnd-2-2/
LOCATION:Timaru Club Room\, Crampton Tower Museum\, Broadstairs\, Kent\, CT10 2AB\, United Kingdom
CATEGORIES:Club Night
END:VEVENT
BEGIN:VEVENT
DTSTART;TZID=UTC:20250225T190000
DTEND;TZID=UTC:20250225T220000
DTSTAMP:20260419T193628
CREATED:20241224T142641Z
LAST-MODIFIED:20250225T215615Z
UID:984-1740510000-1740520800@www.timaru.co.uk
SUMMARY:1/32 F2 Rnd 2
DESCRIPTION:1/32 F2 Rnd 2 \nResults\nQualifying\nDownload [72.63 KB]  \nFinals\nDownload [157.16 KB]
URL:https://www.timaru.co.uk/event/1-32-f2-rnd-2-2/
LOCATION:Timaru Club Room\, Crampton Tower Museum\, Broadstairs\, Kent\, CT10 2AB\, United Kingdom
CATEGORIES:Club Night
END:VEVENT
BEGIN:VEVENT
DTSTART;TZID=UTC:20250218T190000
DTEND;TZID=UTC:20250218T220000
DTSTAMP:20260419T193628
CREATED:20241224T142641Z
LAST-MODIFIED:20250218T213152Z
UID:983-1739905200-1739916000@www.timaru.co.uk
SUMMARY:1/32 Genesis Rnd 2
DESCRIPTION:1/32 Genesis Rnd 2 \nResults\nQualifying\nDownload [58.96 KB]  \nFinals\nDownload [147.80 KB]
URL:https://www.timaru.co.uk/event/1-32-genesis-rnd-2-2/
LOCATION:Timaru Club Room\, Crampton Tower Museum\, Broadstairs\, Kent\, CT10 2AB\, United Kingdom
CATEGORIES:Club Night
END:VEVENT
BEGIN:VEVENT
DTSTART;VALUE=DATE:20250216
DTEND;VALUE=DATE:20250217
DTSTAMP:20260419T193628
CREATED:20241224T144615Z
LAST-MODIFIED:20241224T144615Z
UID:1074-1739664000-1739750399@www.timaru.co.uk
SUMMARY:S32 Bournemouth
DESCRIPTION:S32 Bournemouth
URL:https://www.timaru.co.uk/event/s32-bournemouth/
LOCATION:Kent
CATEGORIES:Southern 32
END:VEVENT
BEGIN:VEVENT
DTSTART;TZID=UTC:20250211T190000
DTEND;TZID=UTC:20250211T220000
DTSTAMP:20260419T193628
CREATED:20241224T142641Z
LAST-MODIFIED:20241224T143032Z
UID:982-1739300400-1739311200@www.timaru.co.uk
SUMMARY:Club Cars Rnd 1
DESCRIPTION:Club Cars Rnd 1   \nResults\n \nQualifying\n \nFinals
URL:https://www.timaru.co.uk/event/club-cars-rnd-1-2/
LOCATION:Timaru Club Room\, Crampton Tower Museum\, Broadstairs\, Kent\, CT10 2AB\, United Kingdom
CATEGORIES:Club Night
END:VEVENT
BEGIN:VEVENT
DTSTART;TZID=UTC:20250204T190000
DTEND;TZID=UTC:20250204T220000
DTSTAMP:20260419T193628
CREATED:20241224T142640Z
LAST-MODIFIED:20250205T181714Z
UID:981-1738695600-1738706400@www.timaru.co.uk
SUMMARY:1/24 Rnd 1
DESCRIPTION:1/24 Rnd 1 \nResults\n  \nQualifying\nDownload [67.34 KB]  \nFinals\nDownload [220.73 KB]
URL:https://www.timaru.co.uk/event/1-24-rnd-1-2/
LOCATION:Timaru Club Room\, Crampton Tower Museum\, Broadstairs\, Kent\, CT10 2AB\, United Kingdom
CATEGORIES:Club Night
END:VEVENT
BEGIN:VEVENT
DTSTART;TZID=UTC:20250128T190000
DTEND;TZID=UTC:20250128T220000
DTSTAMP:20260419T193628
CREATED:20241224T142640Z
LAST-MODIFIED:20250129T080717Z
UID:980-1738090800-1738101600@www.timaru.co.uk
SUMMARY:1/32 Sports Rnd 1
DESCRIPTION:1/32 Sports Rnd 1 \nResults\nQualifying\nDownload [80.97 KB]  \nFinals\nDownload [209.28 KB]
URL:https://www.timaru.co.uk/event/1-32-sports-rnd-1-2/
LOCATION:Timaru Club Room\, Crampton Tower Museum\, Broadstairs\, Kent\, CT10 2AB\, United Kingdom
CATEGORIES:Club Night
END:VEVENT
BEGIN:VEVENT
DTSTART;TZID=UTC:20250121T190000
DTEND;TZID=UTC:20250121T220000
DTSTAMP:20260419T193628
CREATED:20241224T142640Z
LAST-MODIFIED:20250121T221918Z
UID:979-1737486000-1737496800@www.timaru.co.uk
SUMMARY:1/32 Saloon Rnd 1
DESCRIPTION:1/32 Saloon Rnd 1 \nResults\nQualifying\nDownload [65.19 KB]  \nFinals\nDownload [205.92 KB]
URL:https://www.timaru.co.uk/event/1-32-saloon-rnd-1-2/
LOCATION:Timaru Club Room\, Crampton Tower Museum\, Broadstairs\, Kent\, CT10 2AB\, United Kingdom
CATEGORIES:Club Night
END:VEVENT
BEGIN:VEVENT
DTSTART;VALUE=DATE:20250119
DTEND;VALUE=DATE:20250120
DTSTAMP:20260419T193628
CREATED:20241224T144535Z
LAST-MODIFIED:20241224T144535Z
UID:1072-1737244800-1737331199@www.timaru.co.uk
SUMMARY:S32 North London
DESCRIPTION:S32 North London
URL:https://www.timaru.co.uk/event/s32-north-london-2/
LOCATION:Kent
CATEGORIES:Southern 32
END:VEVENT
BEGIN:VEVENT
DTSTART;TZID=UTC:20250114T190000
DTEND;TZID=UTC:20250114T220000
DTSTAMP:20260419T193628
CREATED:20241224T142640Z
LAST-MODIFIED:20250115T181902Z
UID:978-1736881200-1736892000@www.timaru.co.uk
SUMMARY:1/32 F2 Rnd 1
DESCRIPTION:1/32 F2 Rnd 1 \nResults\nQualifying\nDownload [64.71 KB]  \nFinals\nDownload [193.98 KB]
URL:https://www.timaru.co.uk/event/1-32-f2-rnd-1-2/
LOCATION:Timaru Club Room\, Crampton Tower Museum\, Broadstairs\, Kent\, CT10 2AB\, United Kingdom
CATEGORIES:Club Night
END:VEVENT
BEGIN:VEVENT
DTSTART;TZID=UTC:20250107T190000
DTEND;TZID=UTC:20250107T220000
DTSTAMP:20260419T193628
CREATED:20241223T213315Z
LAST-MODIFIED:20250108T081203Z
UID:874-1736276400-1736287200@www.timaru.co.uk
SUMMARY:1/32 Genesis Rnd 1
DESCRIPTION:1/32 Genesis Rnd 1 \nResults\nQualifying\nDownload [66.91 KB]  \nFinals\nDownload [211.78 KB]
URL:https://www.timaru.co.uk/event/1-32-genesis-rnd-1/
LOCATION:Timaru Club Room\, Crampton Tower Museum\, Broadstairs\, Kent\, CT10 2AB\, United Kingdom
CATEGORIES:Club Night
END:VEVENT
BEGIN:VEVENT
DTSTART;TZID=UTC:20241217T190000
DTEND;TZID=UTC:20241217T220000
DTSTAMP:20260419T193628
CREATED:20241223T205457Z
LAST-MODIFIED:20241223T205457Z
UID:862-1734462000-1734472800@www.timaru.co.uk
SUMMARY:Team Endurance Event
DESCRIPTION:Results\nDownload [250.06 KB]
URL:https://www.timaru.co.uk/event/team-endurance-event-2/
LOCATION:Timaru Club Room\, Crampton Tower Museum\, Broadstairs\, Kent\, CT10 2AB\, United Kingdom
CATEGORIES:Club Night
END:VEVENT
BEGIN:VEVENT
DTSTART;TZID=UTC:20241210T190000
DTEND;TZID=UTC:20241210T220000
DTSTAMP:20260419T193628
CREATED:20241223T205231Z
LAST-MODIFIED:20241223T205521Z
UID:858-1733857200-1733868000@www.timaru.co.uk
SUMMARY:Team Endurance event
DESCRIPTION:Results\nDownload [220.46 KB]
URL:https://www.timaru.co.uk/event/team-endurance-event/
LOCATION:Timaru Club Room\, Crampton Tower Museum\, Broadstairs\, Kent\, CT10 2AB\, United Kingdom
CATEGORIES:Club Night
END:VEVENT
BEGIN:VEVENT
DTSTART;TZID=UTC:20241207T140000
DTEND;TZID=UTC:20241207T163000
DTSTAMP:20260419T193629
CREATED:20240119T162256Z
LAST-MODIFIED:20240119T162256Z
UID:577-1733580000-1733589000@www.timaru.co.uk
SUMMARY:Open Session
DESCRIPTION:Want to test a new car or car parts or just work on improving the handling of an old one\, or just need some practice time? \nThen our open session is for you. Come along and test/practice without the pressures of a race. \nPotential new members please contact us first.
URL:https://www.timaru.co.uk/event/open-session-11/
LOCATION:Timaru Club Room\, Crampton Tower Museum\, Broadstairs\, Kent\, CT10 2AB\, United Kingdom
CATEGORIES:Open Session
END:VEVENT
BEGIN:VEVENT
DTSTART;TZID=UTC:20241203T190000
DTEND;TZID=UTC:20241203T190000
DTSTAMP:20260419T193629
CREATED:20240107T135246Z
LAST-MODIFIED:20241208T105735Z
UID:458-1733252400-1733252400@www.timaru.co.uk
SUMMARY:Club Cars Rnd8
DESCRIPTION:Round 8\n Club Cars \nResults\nQualifying\nDownload [153.29 KB]  \nFinals\nDownload [68.99 KB]
URL:https://www.timaru.co.uk/event/club-cars-8/
LOCATION:Timaru Club Room\, Crampton Tower Museum\, Broadstairs\, Kent\, CT10 2AB\, United Kingdom
CATEGORIES:Club Night
END:VEVENT
BEGIN:VEVENT
DTSTART;TZID=UTC:20241126T190000
DTEND;TZID=UTC:20241126T190000
DTSTAMP:20260419T193629
CREATED:20240107T135028Z
LAST-MODIFIED:20241208T105522Z
UID:454-1732647600-1732647600@www.timaru.co.uk
SUMMARY:1/24 Rnd8
DESCRIPTION:Round 8\n1/24 \nResults\nQualifying\nDownload [67.26 KB]  \nFinals\nDownload [218.43 KB]
URL:https://www.timaru.co.uk/event/1-32-sports-11/
LOCATION:Timaru Club Room\, Crampton Tower Museum\, Broadstairs\, Kent\, CT10 2AB\, United Kingdom
CATEGORIES:Club Night
END:VEVENT
END:VCALENDAR