BEGIN:VCALENDAR
VERSION:2.0
PRODID:-//Timaru Slot Car Club - ECPv6.15.17//NONSGML v1.0//EN
CALSCALE:GREGORIAN
METHOD:PUBLISH
X-ORIGINAL-URL:https://www.timaru.co.uk
X-WR-CALDESC:Events for Timaru Slot Car Club
REFRESH-INTERVAL;VALUE=DURATION:PT1H
X-Robots-Tag:noindex
X-PUBLISHED-TTL:PT1H
BEGIN:VTIMEZONE
TZID:UTC
BEGIN:STANDARD
TZOFFSETFROM:+0000
TZOFFSETTO:+0000
TZNAME:UTC
DTSTART:20240101T000000
END:STANDARD
END:VTIMEZONE
BEGIN:VEVENT
DTSTART;TZID=UTC:20250812T190000
DTEND;TZID=UTC:20250812T220000
DTSTAMP:20260419T203040
CREATED:20241224T142756Z
LAST-MODIFIED:20241224T144003Z
UID:1008-1755025200-1755036000@www.timaru.co.uk
SUMMARY:No Club Night
DESCRIPTION:No Club night due to Broadstairs Folk week
URL:https://www.timaru.co.uk/event/folk-week-2/
LOCATION:Timaru Club Room\, Crampton Tower Museum\, Broadstairs\, Kent\, CT10 2AB\, United Kingdom
CATEGORIES:Miscellaneous
END:VEVENT
BEGIN:VEVENT
DTSTART;VALUE=DATE:20250817
DTEND;VALUE=DATE:20250818
DTSTAMP:20260419T203040
CREATED:20241224T201105Z
LAST-MODIFIED:20241224T201105Z
UID:1084-1755388800-1755475199@www.timaru.co.uk
SUMMARY:S32 Oaklands
DESCRIPTION:S32 Oaklands
URL:https://www.timaru.co.uk/event/s32-oaklands/
LOCATION:Kent
CATEGORIES:Southern 32
END:VEVENT
BEGIN:VEVENT
DTSTART;TZID=UTC:20250819T190000
DTEND;TZID=UTC:20250819T220000
DTSTAMP:20260419T203040
CREATED:20241224T142756Z
LAST-MODIFIED:20241224T143542Z
UID:1009-1755630000-1755640800@www.timaru.co.uk
SUMMARY:1/32 F2 Rnd 6
DESCRIPTION:1/32 F2 Rnd 6   \nResults\n \nQualifying\n \nFinals
URL:https://www.timaru.co.uk/event/1-32-f2-rnd-6-2/
LOCATION:Timaru Club Room\, Crampton Tower Museum\, Broadstairs\, Kent\, CT10 2AB\, United Kingdom
CATEGORIES:Club Night
END:VEVENT
BEGIN:VEVENT
DTSTART;TZID=UTC:20250826T190000
DTEND;TZID=UTC:20250826T220000
DTSTAMP:20260419T203040
CREATED:20241224T142756Z
LAST-MODIFIED:20250828T091420Z
UID:1010-1756234800-1756245600@www.timaru.co.uk
SUMMARY:1/32 Saloon Rnd 6
DESCRIPTION:1/32 Saloon Rnd 6 \nResults\nQualifying\nDownload [78.40 KB]  \nFinals\nDownload [199.31 KB]  \n10min Endurance\nDownload [108.96 KB]
URL:https://www.timaru.co.uk/event/1-32-saloon-rnd-6-2/
LOCATION:Timaru Club Room\, Crampton Tower Museum\, Broadstairs\, Kent\, CT10 2AB\, United Kingdom
CATEGORIES:Club Night
END:VEVENT
BEGIN:VEVENT
DTSTART;TZID=UTC:20250902T190000
DTEND;TZID=UTC:20250902T220000
DTSTAMP:20260419T203040
CREATED:20241224T142756Z
LAST-MODIFIED:20241224T143554Z
UID:1011-1756839600-1756850400@www.timaru.co.uk
SUMMARY:1/32 Sports Rnd 6
DESCRIPTION:1/32 Sports Rnd 6   \nResults\n \nQualifying\n \nFinals
URL:https://www.timaru.co.uk/event/1-32-sports-rnd-6-2/
LOCATION:Timaru Club Room\, Crampton Tower Museum\, Broadstairs\, Kent\, CT10 2AB\, United Kingdom
CATEGORIES:Club Night
END:VEVENT
BEGIN:VEVENT
DTSTART;TZID=UTC:20250909T190000
DTEND;TZID=UTC:20250909T220000
DTSTAMP:20260419T203040
CREATED:20241224T141746Z
LAST-MODIFIED:20250911T170134Z
UID:912-1757444400-1757455200@www.timaru.co.uk
SUMMARY:1/24 Rnd 6
DESCRIPTION:1/24 Rnd 6 \nResults\nQualifying\nDownload [73.92 KB]  \nFinals\nDownload [213.95 KB]  \nEndurance\nDownload [101.59 KB]
URL:https://www.timaru.co.uk/event/1-24-rnd-6/
LOCATION:Timaru Club Room\, Crampton Tower Museum\, Broadstairs\, Kent\, CT10 2AB\, United Kingdom
CATEGORIES:Club Night
END:VEVENT
BEGIN:VEVENT
DTSTART;VALUE=DATE:20250914
DTEND;VALUE=DATE:20250915
DTSTAMP:20260419T203041
CREATED:20241224T201146Z
LAST-MODIFIED:20241224T201146Z
UID:1086-1757808000-1757894399@www.timaru.co.uk
SUMMARY:S32 Timaru
DESCRIPTION:
URL:https://www.timaru.co.uk/event/s32-timaru/
LOCATION:Timaru Club Room\, Crampton Tower Museum\, Broadstairs\, Kent\, CT10 2AB\, United Kingdom
CATEGORIES:Southern 32
END:VEVENT
BEGIN:VEVENT
DTSTART;TZID=UTC:20250916T190000
DTEND;TZID=UTC:20250916T220000
DTSTAMP:20260419T203041
CREATED:20241224T142811Z
LAST-MODIFIED:20250919T152827Z
UID:1012-1758049200-1758060000@www.timaru.co.uk
SUMMARY:Club Cars Rnd 6
DESCRIPTION:Club Cars Rnd 6 \nResults\nQualifying\nDownload [156.32 KB]  \nFinals\nDownload [70.17 KB]  \nEndurance\nDownload [148.90 KB]
URL:https://www.timaru.co.uk/event/club-cars-rnd-6-2/
LOCATION:Timaru Club Room\, Crampton Tower Museum\, Broadstairs\, Kent\, CT10 2AB\, United Kingdom
CATEGORIES:Club Night
END:VEVENT
BEGIN:VEVENT
DTSTART;TZID=UTC:20250923T190000
DTEND;TZID=UTC:20250923T220000
DTSTAMP:20260419T203041
CREATED:20241224T142811Z
LAST-MODIFIED:20250924T175137Z
UID:1013-1758654000-1758664800@www.timaru.co.uk
SUMMARY:1/32 Genesis Rnd 7
DESCRIPTION:1/32 Genesis Rnd 7 \nResults\nQualifying\nDownload [51.71 KB]  \nFinals\nDownload [173.44 KB]  \nEndurance\nDownload [51.95 KB]
URL:https://www.timaru.co.uk/event/1-32-genesis-rnd-7-2/
LOCATION:Timaru Club Room\, Crampton Tower Museum\, Broadstairs\, Kent\, CT10 2AB\, United Kingdom
CATEGORIES:Club Night
END:VEVENT
BEGIN:VEVENT
DTSTART;TZID=UTC:20250930T190000
DTEND;TZID=UTC:20250930T220000
DTSTAMP:20260419T203041
CREATED:20241224T142811Z
LAST-MODIFIED:20241224T143616Z
UID:1014-1759258800-1759269600@www.timaru.co.uk
SUMMARY:1/32 F2 Rnd 7
DESCRIPTION:1/32 F2 Rnd 7   \nResults\n \nQualifying\n \nFinals
URL:https://www.timaru.co.uk/event/1-32-f2-rnd-7-2/
LOCATION:Timaru Club Room\, Crampton Tower Museum\, Broadstairs\, Kent\, CT10 2AB\, United Kingdom
CATEGORIES:Club Night
END:VEVENT
BEGIN:VEVENT
DTSTART;TZID=UTC:20251007T190000
DTEND;TZID=UTC:20251007T220000
DTSTAMP:20260419T203041
CREATED:20241224T142811Z
LAST-MODIFIED:20251008T185239Z
UID:1015-1759863600-1759874400@www.timaru.co.uk
SUMMARY:1/32 Saloon Rnd 7
DESCRIPTION:Results\nQualifying\nDownload [65.10 KB]  \nFinals\nDownload [203.83 KB]  \nEndurance\nDownload [101.96 KB]
URL:https://www.timaru.co.uk/event/1-32-saloon-rnd-7-2/
LOCATION:Timaru Club Room\, Crampton Tower Museum\, Broadstairs\, Kent\, CT10 2AB\, United Kingdom
CATEGORIES:Club Night
END:VEVENT
BEGIN:VEVENT
DTSTART;VALUE=DATE:20251012
DTEND;VALUE=DATE:20251013
DTSTAMP:20260419T203041
CREATED:20241224T201217Z
LAST-MODIFIED:20241224T201217Z
UID:1088-1760227200-1760313599@www.timaru.co.uk
SUMMARY:S32 Haydon
DESCRIPTION:S32 Haydon
URL:https://www.timaru.co.uk/event/s32-haydon/
LOCATION:Kent
CATEGORIES:Southern 32
END:VEVENT
BEGIN:VEVENT
DTSTART;TZID=UTC:20251014T190000
DTEND;TZID=UTC:20251014T220000
DTSTAMP:20260419T203041
CREATED:20241224T142826Z
LAST-MODIFIED:20241224T143628Z
UID:1016-1760468400-1760479200@www.timaru.co.uk
SUMMARY:1/32 Sports Rnd 7
DESCRIPTION:1/32 Sports Rnd 7   \nResults\n \nQualifying\n \nFinals
URL:https://www.timaru.co.uk/event/1-32-sports-rnd-7-2/
LOCATION:Timaru Club Room\, Crampton Tower Museum\, Broadstairs\, Kent\, CT10 2AB\, United Kingdom
CATEGORIES:Club Night
END:VEVENT
BEGIN:VEVENT
DTSTART;TZID=UTC:20251021T190000
DTEND;TZID=UTC:20251021T220000
DTSTAMP:20260419T203041
CREATED:20241224T142826Z
LAST-MODIFIED:20241224T143700Z
UID:1017-1761073200-1761084000@www.timaru.co.uk
SUMMARY:1/24 Rnd 7
DESCRIPTION:1/24 Rnd 7   \nResults\n \nQualifying\n \nFinals
URL:https://www.timaru.co.uk/event/1-24-rnd-7-2/
LOCATION:Timaru Club Room\, Crampton Tower Museum\, Broadstairs\, Kent\, CT10 2AB\, United Kingdom
CATEGORIES:Club Night
END:VEVENT
BEGIN:VEVENT
DTSTART;TZID=UTC:20251028T190000
DTEND;TZID=UTC:20251028T220000
DTSTAMP:20260419T203041
CREATED:20241224T142826Z
LAST-MODIFIED:20241224T143706Z
UID:1018-1761678000-1761688800@www.timaru.co.uk
SUMMARY:Club Cars Rnd 7
DESCRIPTION:Club Cars Rnd 7   \nResults\n \nQualifying\n \nFinals
URL:https://www.timaru.co.uk/event/club-cars-rnd-7-2/
LOCATION:Timaru Club Room\, Crampton Tower Museum\, Broadstairs\, Kent\, CT10 2AB\, United Kingdom
CATEGORIES:Club Night
END:VEVENT
BEGIN:VEVENT
DTSTART;VALUE=DATE:20251102
DTEND;VALUE=DATE:20251103
DTSTAMP:20260419T203041
CREATED:20241224T201246Z
LAST-MODIFIED:20241224T201246Z
UID:1090-1762041600-1762127999@www.timaru.co.uk
SUMMARY:S32 Corby
DESCRIPTION:
URL:https://www.timaru.co.uk/event/s32-corby/
LOCATION:Kent
CATEGORIES:Southern 32
END:VEVENT
BEGIN:VEVENT
DTSTART;TZID=UTC:20251104T190000
DTEND;TZID=UTC:20251104T220000
DTSTAMP:20260419T203041
CREATED:20241224T142826Z
LAST-MODIFIED:20251105T175101Z
UID:1019-1762282800-1762293600@www.timaru.co.uk
SUMMARY:1/32 Genesis Rnd 8
DESCRIPTION:  \nResults\n  \nQualifying\nDownload [59.10 KB]  1/32 Genesis Rnd 8\nFinals\nDownload [134.32 KB]  \nEndurance\nDownload [74.08 KB]
URL:https://www.timaru.co.uk/event/1-32-genesis-rnd-8-2/
LOCATION:Timaru Club Room\, Crampton Tower Museum\, Broadstairs\, Kent\, CT10 2AB\, United Kingdom
CATEGORIES:Club Night
END:VEVENT
BEGIN:VEVENT
DTSTART;TZID=UTC:20251111T190000
DTEND;TZID=UTC:20251111T220000
DTSTAMP:20260419T203041
CREATED:20241224T141801Z
LAST-MODIFIED:20241224T143719Z
UID:921-1762887600-1762898400@www.timaru.co.uk
SUMMARY:1/32 F2 Rnd 8
DESCRIPTION:1/32 F2 Rnd 8   \nResults\n \nQualifying\n \nFinals
URL:https://www.timaru.co.uk/event/1-32-f2-rnd-8/
LOCATION:Timaru Club Room\, Crampton Tower Museum\, Broadstairs\, Kent\, CT10 2AB\, United Kingdom
CATEGORIES:Club Night
END:VEVENT
BEGIN:VEVENT
DTSTART;TZID=UTC:20251118T190000
DTEND;TZID=UTC:20251118T220000
DTSTAMP:20260419T203041
CREATED:20241224T142841Z
LAST-MODIFIED:20251121T134322Z
UID:1020-1763492400-1763503200@www.timaru.co.uk
SUMMARY:1/32 Saloon Rnd 8
DESCRIPTION:1/32 Saloon Rnd 8 \nResults\nQualifying\nDownload [71.11 KB]  \nFinals\nDownload [162.44 KB]  \nEndurance\nDownload [94.70 KB]
URL:https://www.timaru.co.uk/event/1-32-saloon-rnd-8-2/
LOCATION:Timaru Club Room\, Crampton Tower Museum\, Broadstairs\, Kent\, CT10 2AB\, United Kingdom
CATEGORIES:Club Night
END:VEVENT
BEGIN:VEVENT
DTSTART;TZID=UTC:20251125T190000
DTEND;TZID=UTC:20251125T220000
DTSTAMP:20260419T203041
CREATED:20241224T142841Z
LAST-MODIFIED:20241224T143732Z
UID:1021-1764097200-1764108000@www.timaru.co.uk
SUMMARY:1/32 Sports Rnd 8
DESCRIPTION:1/32 Sports Rnd 8   \nResults\n \nQualifying\n \nFinals
URL:https://www.timaru.co.uk/event/1-32-sports-rnd-8-2/
LOCATION:Timaru Club Room\, Crampton Tower Museum\, Broadstairs\, Kent\, CT10 2AB\, United Kingdom
CATEGORIES:Club Night
END:VEVENT
BEGIN:VEVENT
DTSTART;TZID=UTC:20251202T190000
DTEND;TZID=UTC:20251202T220000
DTSTAMP:20260419T203041
CREATED:20241224T142841Z
LAST-MODIFIED:20241224T143739Z
UID:1022-1764702000-1764712800@www.timaru.co.uk
SUMMARY:1/24 Rnd 8
DESCRIPTION:1/24 Rnd 8   \nResults\n \nQualifying\n \nFinals
URL:https://www.timaru.co.uk/event/1-24-rnd-8-2/
LOCATION:Timaru Club Room\, Crampton Tower Museum\, Broadstairs\, Kent\, CT10 2AB\, United Kingdom
CATEGORIES:Club Night
END:VEVENT
BEGIN:VEVENT
DTSTART;TZID=UTC:20251209T190000
DTEND;TZID=UTC:20251209T220000
DTSTAMP:20260419T203041
CREATED:20241224T142841Z
LAST-MODIFIED:20241224T143745Z
UID:1023-1765306800-1765317600@www.timaru.co.uk
SUMMARY:Club Cars Rnd 8
DESCRIPTION:Club Cars Rnd 8   \nResults\n \nQualifying\n \nFinals
URL:https://www.timaru.co.uk/event/club-cars-rnd-8-2/
LOCATION:Timaru Club Room\, Crampton Tower Museum\, Broadstairs\, Kent\, CT10 2AB\, United Kingdom
CATEGORIES:Club Night
END:VEVENT
BEGIN:VEVENT
DTSTART;TZID=UTC:20260106T190000
DTEND;TZID=UTC:20260106T220000
DTSTAMP:20260419T203041
CREATED:20251229T214307Z
LAST-MODIFIED:20251229T214307Z
UID:1362-1767726000-1767736800@www.timaru.co.uk
SUMMARY:1/32 Genesis Rnd 1
DESCRIPTION:1/32 Genesis Rnd 1
URL:https://www.timaru.co.uk/event/1-32-genesis-rnd-1-3/
LOCATION:Timaru Club Room\, Crampton Tower Museum\, Broadstairs\, Kent\, CT10 2AB\, United Kingdom
CATEGORIES:Club Night
END:VEVENT
BEGIN:VEVENT
DTSTART;VALUE=DATE:20260118
DTEND;VALUE=DATE:20260119
DTSTAMP:20260419T203041
CREATED:20251125T182526Z
LAST-MODIFIED:20251125T182603Z
UID:1337-1768694400-1768780799@www.timaru.co.uk
SUMMARY:S32 Norwich
DESCRIPTION:S32 Norwich
URL:https://www.timaru.co.uk/event/s32-norwich-2/
LOCATION:Kent
CATEGORIES:Southern 32
END:VEVENT
BEGIN:VEVENT
DTSTART;VALUE=DATE:20260215
DTEND;VALUE=DATE:20260216
DTSTAMP:20260419T203041
CREATED:20251125T182647Z
LAST-MODIFIED:20251125T182912Z
UID:1340-1771113600-1771199999@www.timaru.co.uk
SUMMARY:S32 North London
DESCRIPTION:S32 North London
URL:https://www.timaru.co.uk/event/s32-north-london-3/
LOCATION:Kent
CATEGORIES:Southern 32
END:VEVENT
BEGIN:VEVENT
DTSTART;TZID=UTC:20260222T080000
DTEND;TZID=UTC:20260222T170000
DTSTAMP:20260419T203041
CREATED:20260222T190129Z
LAST-MODIFIED:20260222T190129Z
UID:1503-1771747200-1771779600@www.timaru.co.uk
SUMMARY:1/32 Genesis Rnd 3
DESCRIPTION:1/32 Hawk powered Genesis Rnd 3\nBrushless currently not eligible. \nDoors open 18:45\nRacing Starts 19:30
URL:https://www.timaru.co.uk/event/1-32-genesis-rnd-3-3/
LOCATION:Kent
END:VEVENT
BEGIN:VEVENT
DTSTART;TZID=UTC:20260224T184500
DTEND;TZID=UTC:20260224T220000
DTSTAMP:20260419T203041
CREATED:20260222T161911Z
LAST-MODIFIED:20260222T175052Z
UID:1368-1771958700-1771970400@www.timaru.co.uk
SUMMARY:1/32 F2 Rnd 2
DESCRIPTION:1/32 F2 Rnd 2
URL:https://www.timaru.co.uk/event/1-32-f2-rnd-2-3/
LOCATION:Timaru Club Room\, Crampton Tower Museum\, Broadstairs\, Kent\, CT10 2AB\, United Kingdom
CATEGORIES:Club Night
END:VEVENT
BEGIN:VEVENT
DTSTART;TZID=UTC:20260303T184500
DTEND;TZID=UTC:20260303T193000
DTSTAMP:20260419T203041
CREATED:20260222T162554Z
LAST-MODIFIED:20260222T162554Z
UID:1371-1772563500-1772566200@www.timaru.co.uk
SUMMARY:1/32 Saloon Rnd 2
DESCRIPTION:1/32 Saloon Rnd 2 \nDoors open 18:45\nRacing Starts 19:30
URL:https://www.timaru.co.uk/event/1-32-saloon-rnd-2-3/
LOCATION:Timaru Club Room\, Crampton Tower Museum\, Broadstairs\, Kent\, CT10 2AB\, United Kingdom
CATEGORIES:Club Night
END:VEVENT
BEGIN:VEVENT
DTSTART;TZID=UTC:20260310T184500
DTEND;TZID=UTC:20260310T193000
DTSTAMP:20260419T203041
CREATED:20260222T162709Z
LAST-MODIFIED:20260222T164552Z
UID:1373-1773168300-1773171000@www.timaru.co.uk
SUMMARY:1/32 Sports Rnd 2
DESCRIPTION:1/32 Sports Rnd 2 \nDoors open 18:45\nRacing Starts 19:30
URL:https://www.timaru.co.uk/event/1-32-sports-12/
LOCATION:Timaru Club Room\, Crampton Tower Museum\, Broadstairs\, Kent\, CT10 2AB\, United Kingdom
CATEGORIES:Club Night
END:VEVENT
BEGIN:VEVENT
DTSTART;TZID=UTC:20260317T184500
DTEND;TZID=UTC:20260317T223000
DTSTAMP:20260419T203041
CREATED:20260222T162909Z
LAST-MODIFIED:20260222T162909Z
UID:1376-1773773100-1773786600@www.timaru.co.uk
SUMMARY:1/24 sports Rnd 2
DESCRIPTION:1/24 Sports Rnd 2 \nDoors open 18:45\nRacing Starts 19:30
URL:https://www.timaru.co.uk/event/1-24-sports-rnd-2/
LOCATION:Timaru Club Room\, Crampton Tower Museum\, Broadstairs\, Kent\, CT10 2AB\, United Kingdom
CATEGORIES:Club Night
END:VEVENT
END:VCALENDAR